BEGIN:VCALENDAR
VERSION:2.0
PRODID:-//Lake Sunapee Living - ECPv6.15.13//NONSGML v1.0//EN
CALSCALE:GREGORIAN
METHOD:PUBLISH
X-WR-CALNAME:Lake Sunapee Living
X-ORIGINAL-URL:https://lake-sunapee-living.com
X-WR-CALDESC:Events for Lake Sunapee Living
REFRESH-INTERVAL;VALUE=DURATION:PT1H
X-Robots-Tag:noindex
X-PUBLISHED-TTL:PT1H
BEGIN:VTIMEZONE
TZID:America/New_York
BEGIN:DAYLIGHT
TZOFFSETFROM:-0500
TZOFFSETTO:-0400
TZNAME:EDT
DTSTART:20190310T070000
END:DAYLIGHT
BEGIN:STANDARD
TZOFFSETFROM:-0400
TZOFFSETTO:-0500
TZNAME:EST
DTSTART:20191103T060000
END:STANDARD
BEGIN:DAYLIGHT
TZOFFSETFROM:-0500
TZOFFSETTO:-0400
TZNAME:EDT
DTSTART:20200308T070000
END:DAYLIGHT
BEGIN:STANDARD
TZOFFSETFROM:-0400
TZOFFSETTO:-0500
TZNAME:EST
DTSTART:20201101T060000
END:STANDARD
BEGIN:DAYLIGHT
TZOFFSETFROM:-0500
TZOFFSETTO:-0400
TZNAME:EDT
DTSTART:20210314T070000
END:DAYLIGHT
BEGIN:STANDARD
TZOFFSETFROM:-0400
TZOFFSETTO:-0500
TZNAME:EST
DTSTART:20211107T060000
END:STANDARD
BEGIN:DAYLIGHT
TZOFFSETFROM:-0500
TZOFFSETTO:-0400
TZNAME:EDT
DTSTART:20220313T070000
END:DAYLIGHT
BEGIN:STANDARD
TZOFFSETFROM:-0400
TZOFFSETTO:-0500
TZNAME:EST
DTSTART:20221106T060000
END:STANDARD
BEGIN:DAYLIGHT
TZOFFSETFROM:-0500
TZOFFSETTO:-0400
TZNAME:EDT
DTSTART:20230312T070000
END:DAYLIGHT
BEGIN:STANDARD
TZOFFSETFROM:-0400
TZOFFSETTO:-0500
TZNAME:EST
DTSTART:20231105T060000
END:STANDARD
END:VTIMEZONE
BEGIN:VEVENT
DTSTART;TZID=America/New_York:20200404T100000
DTEND;TZID=America/New_York:20200404T110000
DTSTAMP:20260424T204220
CREATED:20200315T184203Z
LAST-MODIFIED:20200315T184203Z
UID:10003939-1585994400-1585998000@lake-sunapee-living.com
SUMMARY:Easter Egg Hunt at the Olive G. Pettis Memorial Library
DESCRIPTION:Come enjoy crafts\, games\, and stories. Fun for all ages. Bring something to collect your eggs in. \nfor more info call 863-6921
URL:https://lake-sunapee-living.com/event/easter-egg-hunt-at-the-olive-g-pettis-memorial-library/
LOCATION:Olive Pettis Memorial Library\, 36 Mill Village Rd\, Goshen\, NH\, 03752\, United States
CATEGORIES:Easter Egg Hunt
GEO:43.3020714;-72.1491336
X-APPLE-STRUCTURED-LOCATION;VALUE=URI;X-ADDRESS=Olive Pettis Memorial Library 36 Mill Village Rd Goshen NH 03752 United States;X-APPLE-RADIUS=500;X-TITLE=36 Mill Village Rd:geo:-72.1491336,43.3020714
END:VEVENT
BEGIN:VEVENT
DTSTART;TZID=America/New_York:20200410T180000
DTEND;TZID=America/New_York:20200410T183000
DTSTAMP:20260424T204220
CREATED:20200315T185324Z
LAST-MODIFIED:20200315T185415Z
UID:10003943-1586541600-1586543400@lake-sunapee-living.com
SUMMARY:Easter Egg Hunt at Sunapee Harbor
DESCRIPTION:Come join the annual Easter Egg Hunt in Sunapee Harbor! open to all ages 9 yrs and younger. \nBring your own basketball and get you picture with the Easter Bunny! Starts at 6pm (Sharp) \nHosted by Sunapee Recreation Dept
URL:https://lake-sunapee-living.com/event/easter-egg-hunt-at-sunapee-harbor/
LOCATION:Sunapee Harbor\, 67 Main Street\, Sunapee\, NH\, 03782\, United States
CATEGORIES:Easter Egg Hunt
GEO:43.3856379;-72.0816099
X-APPLE-STRUCTURED-LOCATION;VALUE=URI;X-ADDRESS=Sunapee Harbor 67 Main Street Sunapee NH 03782 United States;X-APPLE-RADIUS=500;X-TITLE=67 Main Street:geo:-72.0816099,43.3856379
END:VEVENT
BEGIN:VEVENT
DTSTART;TZID=America/New_York:20200411T093000
DTEND;TZID=America/New_York:20200411T100000
DTSTAMP:20260424T204220
CREATED:20200315T184351Z
LAST-MODIFIED:20200315T184351Z
UID:10003940-1586597400-1586599200@lake-sunapee-living.com
SUMMARY:Easter Egg Hunt at the New London Historical Society
DESCRIPTION:Come join our annual Egg Hunt!\nOpen to all ages 9yrs and younger\nBring your own basket!\nThe Easter Bunny will be available for photos too!
URL:https://lake-sunapee-living.com/event/easter-egg-hunt-at-the-new-london-historical-society/
LOCATION:New London Historical Society\, 179 Little Sunapee Rd\, New London\, NH\, 03257\, United States
CATEGORIES:Easter Egg Hunt
GEO:43.4255005;-71.9953552
X-APPLE-STRUCTURED-LOCATION;VALUE=URI;X-ADDRESS=New London Historical Society 179 Little Sunapee Rd New London NH 03257 United States;X-APPLE-RADIUS=500;X-TITLE=179 Little Sunapee Rd:geo:-71.9953552,43.4255005
END:VEVENT
BEGIN:VEVENT
DTSTART;TZID=America/New_York:20220415T100000
DTEND;TZID=America/New_York:20220415T110000
DTSTAMP:20260424T204220
CREATED:20220411T003453Z
LAST-MODIFIED:20220411T003453Z
UID:10000532-1650016800-1650020400@lake-sunapee-living.com
SUMMARY:Easter egg drop at Parlin Field
DESCRIPTION:NEWPORT RECREATION and PARLIN FIELD Easter egg drop \nAPRIL 15 @ 10AM PARLIN FIELD – CORBIN COVERED BRIDGE \nQuestions\, call 603.863.1332 \nEnjoy some springtime fun at Corbin Covered bridge as Parlin Field Pilots fly over and drop candy for the kids! Don’t forget your basket\, and to look for the Easter Bunny!
URL:https://lake-sunapee-living.com/event/easter-egg-drop-at-parlin-field/
LOCATION:Parlin Field\, 14 Sunapee Street\, Newport\, NH\, 03773\, United States
CATEGORIES:Easter Egg Hunt
GEO:43.3652985;-72.1725549
X-APPLE-STRUCTURED-LOCATION;VALUE=URI;X-ADDRESS=Parlin Field 14 Sunapee Street Newport NH 03773 United States;X-APPLE-RADIUS=500;X-TITLE=14 Sunapee Street:geo:-72.1725549,43.3652985
END:VEVENT
END:VCALENDAR