BEGIN:VCALENDAR
VERSION:2.0
PRODID:-//Lake Sunapee Living - ECPv6.15.13//NONSGML v1.0//EN
CALSCALE:GREGORIAN
METHOD:PUBLISH
X-WR-CALNAME:Lake Sunapee Living
X-ORIGINAL-URL:https://lake-sunapee-living.com
X-WR-CALDESC:Events for Lake Sunapee Living
REFRESH-INTERVAL;VALUE=DURATION:PT1H
X-Robots-Tag:noindex
X-PUBLISHED-TTL:PT1H
BEGIN:VTIMEZONE
TZID:America/New_York
BEGIN:DAYLIGHT
TZOFFSETFROM:-0500
TZOFFSETTO:-0400
TZNAME:EDT
DTSTART:20170312T070000
END:DAYLIGHT
BEGIN:STANDARD
TZOFFSETFROM:-0400
TZOFFSETTO:-0500
TZNAME:EST
DTSTART:20171105T060000
END:STANDARD
BEGIN:DAYLIGHT
TZOFFSETFROM:-0500
TZOFFSETTO:-0400
TZNAME:EDT
DTSTART:20180311T070000
END:DAYLIGHT
BEGIN:STANDARD
TZOFFSETFROM:-0400
TZOFFSETTO:-0500
TZNAME:EST
DTSTART:20181104T060000
END:STANDARD
BEGIN:DAYLIGHT
TZOFFSETFROM:-0500
TZOFFSETTO:-0400
TZNAME:EDT
DTSTART:20190310T070000
END:DAYLIGHT
BEGIN:STANDARD
TZOFFSETFROM:-0400
TZOFFSETTO:-0500
TZNAME:EST
DTSTART:20191103T060000
END:STANDARD
BEGIN:DAYLIGHT
TZOFFSETFROM:-0500
TZOFFSETTO:-0400
TZNAME:EDT
DTSTART:20200308T070000
END:DAYLIGHT
BEGIN:STANDARD
TZOFFSETFROM:-0400
TZOFFSETTO:-0500
TZNAME:EST
DTSTART:20201101T060000
END:STANDARD
END:VTIMEZONE
BEGIN:VEVENT
DTSTART;TZID=America/New_York:20180922T193000
DTEND;TZID=America/New_York:20180922T220000
DTSTAMP:20260425T121647
CREATED:20180915T004344Z
LAST-MODIFIED:20180915T004600Z
UID:10000625-1537644600-1537653600@lake-sunapee-living.com
SUMMARY:Demolition Derby at NHMX New Hampshire Motocross Park
DESCRIPTION:Woodbooger Demolition Derby @ NHMX \nPower Wheels Demolition Derby for kids 3-8 yrs old\n4\, 6\, 8 cyl Demolition Derby\nmini trucks\, full size trucks\, vans\n$10 tickets are available at the gate \nJolly Roger Rd\, Lempster\, NH 03605 \nHosted by Woodbooger Demolition Derby
URL:https://lake-sunapee-living.com/event/woodbooger-demolition-derby-at-nhmx-new-hampshire-motocross-park/
LOCATION:New Hampshire Motocross Park\, Jolly Roger Rd\, Lempster\, NH\, 03605\, United States
CATEGORIES:Demolition Derby
GEO:43.184499;-72.2067215
X-APPLE-STRUCTURED-LOCATION;VALUE=URI;X-ADDRESS=New Hampshire Motocross Park Jolly Roger Rd Lempster NH 03605 United States;X-APPLE-RADIUS=500;X-TITLE=Jolly Roger Rd:geo:-72.2067215,43.184499
END:VEVENT
BEGIN:VEVENT
DTSTART;TZID=America/New_York:20190608T190000
DTEND;TZID=America/New_York:20190608T220000
DTSTAMP:20260425T121647
CREATED:20190505T135041Z
LAST-MODIFIED:20190505T135041Z
UID:10000265-1560020400-1560031200@lake-sunapee-living.com
SUMMARY:NHMX Demolition Derby
DESCRIPTION:The first derby of the year! \nWe will have kids power wheels\, 4\, 6\, 8 cyl cars\, mini trucks\, trucks and a ton of fun!\n$15.00 Admission \nHosted by Woodbooger Demolition Derby
URL:https://lake-sunapee-living.com/event/nhmx-demolition-derby/
LOCATION:NHMX\, 93 Jolly Rogers Road\, Lempster\, NH\, 03605\, United States
CATEGORIES:Demolition Derby
GEO:43.1846263;-72.2067613
X-APPLE-STRUCTURED-LOCATION;VALUE=URI;X-ADDRESS=NHMX 93 Jolly Rogers Road Lempster NH 03605 United States;X-APPLE-RADIUS=500;X-TITLE=93 Jolly Rogers Road:geo:-72.2067613,43.1846263
END:VEVENT
END:VCALENDAR