BEGIN:VCALENDAR
VERSION:2.0
PRODID:-//Lake Sunapee Living - ECPv6.15.13//NONSGML v1.0//EN
CALSCALE:GREGORIAN
METHOD:PUBLISH
X-ORIGINAL-URL:https://lake-sunapee-living.com
X-WR-CALDESC:Events for Lake Sunapee Living
REFRESH-INTERVAL;VALUE=DURATION:PT1H
X-Robots-Tag:noindex
X-PUBLISHED-TTL:PT1H
BEGIN:VTIMEZONE
TZID:America/New_York
BEGIN:DAYLIGHT
TZOFFSETFROM:-0500
TZOFFSETTO:-0400
TZNAME:EDT
DTSTART:20180311T070000
END:DAYLIGHT
BEGIN:STANDARD
TZOFFSETFROM:-0400
TZOFFSETTO:-0500
TZNAME:EST
DTSTART:20181104T060000
END:STANDARD
BEGIN:DAYLIGHT
TZOFFSETFROM:-0500
TZOFFSETTO:-0400
TZNAME:EDT
DTSTART:20190310T070000
END:DAYLIGHT
BEGIN:STANDARD
TZOFFSETFROM:-0400
TZOFFSETTO:-0500
TZNAME:EST
DTSTART:20191103T060000
END:STANDARD
BEGIN:DAYLIGHT
TZOFFSETFROM:-0500
TZOFFSETTO:-0400
TZNAME:EDT
DTSTART:20200308T070000
END:DAYLIGHT
BEGIN:STANDARD
TZOFFSETFROM:-0400
TZOFFSETTO:-0500
TZNAME:EST
DTSTART:20201101T060000
END:STANDARD
BEGIN:DAYLIGHT
TZOFFSETFROM:-0500
TZOFFSETTO:-0400
TZNAME:EDT
DTSTART:20210314T070000
END:DAYLIGHT
BEGIN:STANDARD
TZOFFSETFROM:-0400
TZOFFSETTO:-0500
TZNAME:EST
DTSTART:20211107T060000
END:STANDARD
BEGIN:DAYLIGHT
TZOFFSETFROM:-0500
TZOFFSETTO:-0400
TZNAME:EDT
DTSTART:20220313T070000
END:DAYLIGHT
BEGIN:STANDARD
TZOFFSETFROM:-0400
TZOFFSETTO:-0500
TZNAME:EST
DTSTART:20221106T060000
END:STANDARD
BEGIN:DAYLIGHT
TZOFFSETFROM:-0500
TZOFFSETTO:-0400
TZNAME:EDT
DTSTART:20230312T070000
END:DAYLIGHT
BEGIN:STANDARD
TZOFFSETFROM:-0400
TZOFFSETTO:-0500
TZNAME:EST
DTSTART:20231105T060000
END:STANDARD
BEGIN:DAYLIGHT
TZOFFSETFROM:-0500
TZOFFSETTO:-0400
TZNAME:EDT
DTSTART:20240310T070000
END:DAYLIGHT
BEGIN:STANDARD
TZOFFSETFROM:-0400
TZOFFSETTO:-0500
TZNAME:EST
DTSTART:20241103T060000
END:STANDARD
BEGIN:DAYLIGHT
TZOFFSETFROM:-0500
TZOFFSETTO:-0400
TZNAME:EDT
DTSTART:20250309T070000
END:DAYLIGHT
BEGIN:STANDARD
TZOFFSETFROM:-0400
TZOFFSETTO:-0500
TZNAME:EST
DTSTART:20251102T060000
END:STANDARD
END:VTIMEZONE
BEGIN:VEVENT
DTSTART;TZID=America/New_York:20241005T180000
DTEND;TZID=America/New_York:20241005T193000
DTSTAMP:20260424T174608
CREATED:20240726T124454Z
LAST-MODIFIED:20240728T202515Z
UID:10004320-1728151200-1728156600@lake-sunapee-living.com
SUMMARY:Community Square Dance at Sherborne Gym
DESCRIPTION:Sponsored by the Friends of the Abbott Library\nSign-up by October 1\n603-763-5513 or info@abbottlibrary.org\nAll are welcome!
URL:https://lake-sunapee-living.com/event/community-square-dance-at-sherborne-gym/
LOCATION:Sherborne Gym\, Sherborne\, Dorset\, DT9\, United Kingdom
CATEGORIES:Dance
GEO:50.947822;-2.5144829
END:VEVENT
BEGIN:VEVENT
DTSTART;TZID=America/New_York:20240727T180000
DTEND;TZID=America/New_York:20240727T200000
DTSTAMP:20260424T174608
CREATED:20240727T125724Z
LAST-MODIFIED:20240727T125724Z
UID:10004326-1722103200-1722110400@lake-sunapee-living.com
SUMMARY:Sock Hop at The Top
DESCRIPTION:
URL:https://lake-sunapee-living.com/event/sock-hop-at-the-top/
LOCATION:The top
CATEGORIES:Dance
ORGANIZER;CN="Louis Bradbard":MAILTO:lbradbard@mac.com
END:VEVENT
BEGIN:VEVENT
DTSTART;TZID=America/New_York:20190511T200000
DTEND;TZID=America/New_York:20190511T220000
DTSTAMP:20260424T174608
CREATED:20181118T141532Z
LAST-MODIFIED:20181118T141557Z
UID:10000231-1557604800-1557612000@lake-sunapee-living.com
SUMMARY:The 4th Annual Dancing with the Lake Sunapee Stars 
DESCRIPTION:The 4th Annual Dancing with the Lake Sunapee Stars \nEnjoy a fun evening as Dancers compete for the People’s Choice Award \nPerformance\, Auction and Reception \nTo benefit the CFA Scholarship and Education Program \nKearsarge Regional High School \nwww.CenterForTheArtsNH.org
URL:https://lake-sunapee-living.com/event/the-4th-annual-dancing-with-the-lake-sunapee-stars/
LOCATION:Kearsarge Regional High School\, 457 N Rd\, North Sutton\, NH\, 03260\, United States
CATEGORIES:Dance
GEO:43.3486989;-71.9043797
X-APPLE-STRUCTURED-LOCATION;VALUE=URI;X-ADDRESS=Kearsarge Regional High School 457 N Rd North Sutton NH 03260 United States;X-APPLE-RADIUS=500;X-TITLE=457 N Rd:geo:-71.9043797,43.3486989
END:VEVENT
BEGIN:VEVENT
DTSTART;TZID=America/New_York:20190301T190000
DTEND;TZID=America/New_York:20190301T203000
DTSTAMP:20260424T174608
CREATED:20181118T135436Z
LAST-MODIFIED:20181118T135509Z
UID:10000233-1551466800-1551472200@lake-sunapee-living.com
SUMMARY:First Fridays! Colby-Sawyer Dance Ensemble FREE
DESCRIPTION:First Fridays! Colby-Sawyer Dance Ensemble at Whipple Hall  \nFREE  \nLaura Shepherd directs the Colby-Sawyer College  \nDance Company in this beautiful production. \n www.CenterForTheArtsNH.org
URL:https://lake-sunapee-living.com/event/first-fridays-colby-sawyer-dance-ensemble-free/
LOCATION:NH\, United States
CATEGORIES:Dance
END:VEVENT
END:VCALENDAR