BEGIN:VCALENDAR
VERSION:2.0
PRODID:-//Lake Sunapee Living - ECPv6.15.13//NONSGML v1.0//EN
CALSCALE:GREGORIAN
METHOD:PUBLISH
X-WR-CALNAME:Lake Sunapee Living
X-ORIGINAL-URL:https://lake-sunapee-living.com
X-WR-CALDESC:Events for Lake Sunapee Living
REFRESH-INTERVAL;VALUE=DURATION:PT1H
X-Robots-Tag:noindex
X-PUBLISHED-TTL:PT1H
BEGIN:VTIMEZONE
TZID:America/New_York
BEGIN:DAYLIGHT
TZOFFSETFROM:-0500
TZOFFSETTO:-0400
TZNAME:EDT
DTSTART:20160313T070000
END:DAYLIGHT
BEGIN:STANDARD
TZOFFSETFROM:-0400
TZOFFSETTO:-0500
TZNAME:EST
DTSTART:20161106T060000
END:STANDARD
BEGIN:DAYLIGHT
TZOFFSETFROM:-0500
TZOFFSETTO:-0400
TZNAME:EDT
DTSTART:20170312T070000
END:DAYLIGHT
BEGIN:STANDARD
TZOFFSETFROM:-0400
TZOFFSETTO:-0500
TZNAME:EST
DTSTART:20171105T060000
END:STANDARD
BEGIN:DAYLIGHT
TZOFFSETFROM:-0500
TZOFFSETTO:-0400
TZNAME:EDT
DTSTART:20180311T070000
END:DAYLIGHT
BEGIN:STANDARD
TZOFFSETFROM:-0400
TZOFFSETTO:-0500
TZNAME:EST
DTSTART:20181104T060000
END:STANDARD
END:VTIMEZONE
BEGIN:VEVENT
DTSTART;TZID=America/New_York:20171008T110000
DTEND;TZID=America/New_York:20171008T160000
DTSTAMP:20260424T204520
CREATED:20170812T015419Z
LAST-MODIFIED:20170812T015419Z
UID:10000071-1507460400-1507478400@lake-sunapee-living.com
SUMMARY:Sunapee Harbor Fine Arts & Crafts Festival
DESCRIPTION:Fine Arts & Crafts Festival 11am ~ 4pm The Popup Gallery @ The Livery on Main St. in Sunapee Harbor. Details & Info: www.projectsunapee.org
URL:https://lake-sunapee-living.com/event/sunapee-harbor-fine-arts-crafts-festival/
CATEGORIES:Crafts
END:VEVENT
BEGIN:VEVENT
DTSTART;TZID=America/New_York:20170902T120000
DTEND;TZID=America/New_York:20170902T160000
DTSTAMP:20260424T204520
CREATED:20170830T185428Z
LAST-MODIFIED:20170830T185451Z
UID:10000059-1504353600-1504368000@lake-sunapee-living.com
SUMMARY:ARTfest at the Oak & Grain
DESCRIPTION:Our first Annual ARTfest!\nCome enjoy artists\, crafters and a farmer’s market outside on the patio.\n$5 donation goes to support the NH Food Bank.\nCocktails & Nosh will be served on the patio for the afternoon! \nmore info: innatpleasantlake.com/calendar-of-events
URL:https://lake-sunapee-living.com/event/artfest-oak-grain/
CATEGORIES:Crafts,Farmers Market
END:VEVENT
BEGIN:VEVENT
DTSTART;TZID=America/New_York:20170826T090000
DTEND;TZID=America/New_York:20170826T150000
DTSTAMP:20260424T204520
CREATED:20170812T151407Z
LAST-MODIFIED:20170812T151407Z
UID:10000082-1503738000-1503759600@lake-sunapee-living.com
SUMMARY:Apple Pie Crafts Fair\, Newport\, NH
DESCRIPTION:Newport Town Common   *   Rain or Shine \n100+ booths of handmade crafts\, including pottery\, woodworking\, glass\, fiber arts and more. The fair also features live music\, an apple pie contest & sale\, and the Firemens’ Famous Chicken Barbecue.
URL:https://lake-sunapee-living.com/event/apple-pie-crafts-fair-newport-nh/
CATEGORIES:Crafts,Food Festival
ATTACH;FMTTYPE=image/jpeg:https://lake-sunapee-living.com/wp-content/uploads/2017/08/Apple-Pies-in-a-Row.jpg
END:VEVENT
END:VCALENDAR