BEGIN:VCALENDAR
VERSION:2.0
PRODID:-//Lake Sunapee Living - ECPv6.15.13//NONSGML v1.0//EN
CALSCALE:GREGORIAN
METHOD:PUBLISH
X-ORIGINAL-URL:https://lake-sunapee-living.com
X-WR-CALDESC:Events for Lake Sunapee Living
REFRESH-INTERVAL;VALUE=DURATION:PT1H
X-Robots-Tag:noindex
X-PUBLISHED-TTL:PT1H
BEGIN:VTIMEZONE
TZID:America/New_York
BEGIN:DAYLIGHT
TZOFFSETFROM:-0500
TZOFFSETTO:-0400
TZNAME:EDT
DTSTART:20220313T070000
END:DAYLIGHT
BEGIN:STANDARD
TZOFFSETFROM:-0400
TZOFFSETTO:-0500
TZNAME:EST
DTSTART:20221106T060000
END:STANDARD
BEGIN:DAYLIGHT
TZOFFSETFROM:-0500
TZOFFSETTO:-0400
TZNAME:EDT
DTSTART:20230312T070000
END:DAYLIGHT
BEGIN:STANDARD
TZOFFSETFROM:-0400
TZOFFSETTO:-0500
TZNAME:EST
DTSTART:20231105T060000
END:STANDARD
BEGIN:DAYLIGHT
TZOFFSETFROM:-0500
TZOFFSETTO:-0400
TZNAME:EDT
DTSTART:20240310T070000
END:DAYLIGHT
BEGIN:STANDARD
TZOFFSETFROM:-0400
TZOFFSETTO:-0500
TZNAME:EST
DTSTART:20241103T060000
END:STANDARD
BEGIN:DAYLIGHT
TZOFFSETFROM:-0500
TZOFFSETTO:-0400
TZNAME:EDT
DTSTART:20250309T070000
END:DAYLIGHT
BEGIN:STANDARD
TZOFFSETFROM:-0400
TZOFFSETTO:-0500
TZNAME:EST
DTSTART:20251102T060000
END:STANDARD
END:VTIMEZONE
BEGIN:VEVENT
DTSTART;TZID=America/New_York:20231202T100000
DTEND;TZID=America/New_York:20231202T130000
DTSTAMP:20260424T164214
CREATED:20230703T123132Z
LAST-MODIFIED:20230703T124429Z
UID:10004169-1701511200-1701522000@lake-sunapee-living.com
SUMMARY:Holiday Craft Fair at the Olive G Pettis Library
DESCRIPTION:Holiday Craft Fair Featuring our Famous Cookie Walk.
URL:https://lake-sunapee-living.com/event/holiday-craft-fair-at-the-olive-g-pettis-library/
LOCATION:Olive Pettis Memorial Library\, 36 Mill Village Rd\, Goshen\, NH\, 03752\, United States
CATEGORIES:Crafts
GEO:43.3020714;-72.1491336
X-APPLE-STRUCTURED-LOCATION;VALUE=URI;X-ADDRESS=Olive Pettis Memorial Library 36 Mill Village Rd Goshen NH 03752 United States;X-APPLE-RADIUS=500;X-TITLE=36 Mill Village Rd:geo:-72.1491336,43.3020714
END:VEVENT
BEGIN:VEVENT
DTSTART;TZID=America/New_York:20241013T110000
DTEND;TZID=America/New_York:20241013T160000
DTSTAMP:20260424T164214
CREATED:20240727T155534Z
LAST-MODIFIED:20240727T160602Z
UID:10004344-1728817200-1728835200@lake-sunapee-living.com
SUMMARY:10th Annual Arts & Crafts Exhibit & Sale at Harbor House Livery
DESCRIPTION:Meet a Potter\, Painter\, Photographer & Printmaker.\nJewelers\, Mixed Media & Fiber Artists & Purveyor of Incredible Edibles. www.projectsunapee.org
URL:https://lake-sunapee-living.com/event/10th-annual-arts-crafts-exhibit-sale/
LOCATION:Harbor House Livery
CATEGORIES:Art Exhibition,Crafts
ORGANIZER;CN="Louis Bradbard":MAILTO:lbradbard@mac.com
END:VEVENT
BEGIN:VEVENT
DTSTART;TZID=America/New_York:20241214T090000
DTEND;TZID=America/New_York:20241214T140000
DTSTAMP:20260424T164214
CREATED:20241119T010008Z
LAST-MODIFIED:20241119T010238Z
UID:10004351-1734166800-1734184800@lake-sunapee-living.com
SUMMARY:Holiday Craft Fair Bazaar at the Newport High School
DESCRIPTION:Newport High School – 245 N. Main St. Newport\, NH \nPlease join us for a traditional New England craft fair. Come see what our local artisans and vendors have to offer!
URL:https://lake-sunapee-living.com/event/holiday-craft-fair-bazaar-at-the-newport-high-school/
LOCATION:Newport High School\, North Main Street 245\, Newport\, NH\, 03773\, United States
CATEGORIES:Crafts
GEO:43.3751621;-72.1779897
X-APPLE-STRUCTURED-LOCATION;VALUE=URI;X-ADDRESS=Newport High School North Main Street 245 Newport NH 03773 United States;X-APPLE-RADIUS=500;X-TITLE=North Main Street 245:geo:-72.1779897,43.3751621
END:VEVENT
END:VCALENDAR