BEGIN:VCALENDAR
VERSION:2.0
PRODID:-//Lake Sunapee Living - ECPv6.15.13//NONSGML v1.0//EN
CALSCALE:GREGORIAN
METHOD:PUBLISH
X-ORIGINAL-URL:https://lake-sunapee-living.com
X-WR-CALDESC:Events for Lake Sunapee Living
REFRESH-INTERVAL;VALUE=DURATION:PT1H
X-Robots-Tag:noindex
X-PUBLISHED-TTL:PT1H
BEGIN:VTIMEZONE
TZID:America/New_York
BEGIN:DAYLIGHT
TZOFFSETFROM:-0500
TZOFFSETTO:-0400
TZNAME:EDT
DTSTART:20170312T070000
END:DAYLIGHT
BEGIN:STANDARD
TZOFFSETFROM:-0400
TZOFFSETTO:-0500
TZNAME:EST
DTSTART:20171105T060000
END:STANDARD
BEGIN:DAYLIGHT
TZOFFSETFROM:-0500
TZOFFSETTO:-0400
TZNAME:EDT
DTSTART:20180311T070000
END:DAYLIGHT
BEGIN:STANDARD
TZOFFSETFROM:-0400
TZOFFSETTO:-0500
TZNAME:EST
DTSTART:20181104T060000
END:STANDARD
BEGIN:DAYLIGHT
TZOFFSETFROM:-0500
TZOFFSETTO:-0400
TZNAME:EDT
DTSTART:20190310T070000
END:DAYLIGHT
BEGIN:STANDARD
TZOFFSETFROM:-0400
TZOFFSETTO:-0500
TZNAME:EST
DTSTART:20191103T060000
END:STANDARD
BEGIN:DAYLIGHT
TZOFFSETFROM:-0500
TZOFFSETTO:-0400
TZNAME:EDT
DTSTART:20200308T070000
END:DAYLIGHT
BEGIN:STANDARD
TZOFFSETFROM:-0400
TZOFFSETTO:-0500
TZNAME:EST
DTSTART:20201101T060000
END:STANDARD
BEGIN:DAYLIGHT
TZOFFSETFROM:-0500
TZOFFSETTO:-0400
TZNAME:EDT
DTSTART:20210314T070000
END:DAYLIGHT
BEGIN:STANDARD
TZOFFSETFROM:-0400
TZOFFSETTO:-0500
TZNAME:EST
DTSTART:20211107T060000
END:STANDARD
BEGIN:DAYLIGHT
TZOFFSETFROM:-0500
TZOFFSETTO:-0400
TZNAME:EDT
DTSTART:20220313T070000
END:DAYLIGHT
BEGIN:STANDARD
TZOFFSETFROM:-0400
TZOFFSETTO:-0500
TZNAME:EST
DTSTART:20221106T060000
END:STANDARD
BEGIN:DAYLIGHT
TZOFFSETFROM:-0500
TZOFFSETTO:-0400
TZNAME:EDT
DTSTART:20230312T070000
END:DAYLIGHT
BEGIN:STANDARD
TZOFFSETFROM:-0400
TZOFFSETTO:-0500
TZNAME:EST
DTSTART:20231105T060000
END:STANDARD
BEGIN:DAYLIGHT
TZOFFSETFROM:-0500
TZOFFSETTO:-0400
TZNAME:EDT
DTSTART:20240310T070000
END:DAYLIGHT
BEGIN:STANDARD
TZOFFSETFROM:-0400
TZOFFSETTO:-0500
TZNAME:EST
DTSTART:20241103T060000
END:STANDARD
BEGIN:DAYLIGHT
TZOFFSETFROM:-0500
TZOFFSETTO:-0400
TZNAME:EDT
DTSTART:20250309T070000
END:DAYLIGHT
BEGIN:STANDARD
TZOFFSETFROM:-0400
TZOFFSETTO:-0500
TZNAME:EST
DTSTART:20251102T060000
END:STANDARD
BEGIN:DAYLIGHT
TZOFFSETFROM:-0500
TZOFFSETTO:-0400
TZNAME:EDT
DTSTART:20260308T070000
END:DAYLIGHT
BEGIN:STANDARD
TZOFFSETFROM:-0400
TZOFFSETTO:-0500
TZNAME:EST
DTSTART:20261101T060000
END:STANDARD
END:VTIMEZONE
BEGIN:VEVENT
DTSTART;TZID=America/New_York:20180829T183000
DTEND;TZID=America/New_York:20180829T203000
DTSTAMP:20260425T233006
CREATED:20180606T150205Z
LAST-MODIFIED:20180606T150205Z
UID:10000396-1535567400-1535574600@lake-sunapee-living.com
SUMMARY:Live Music: The Bel Airs at the Ben Mere Bandstand
DESCRIPTION:Take a ride on a musical time machine back to the days of shiny metal diners\, beehive hairdoos\, big fins on cars\, with street corner harmony. \nThis five member doo wop vocal group will whisk you back to those simple days of late 50s and early 60s with exquisite five part harmonies.
URL:https://lake-sunapee-living.com/event/live-music-the-bel-airs-at-the-ben-mere-bandstand/
LOCATION:Ben Mere Bandstand\, 2 Lake Ave\, Sunapee\, NH\, 03782\, United States
CATEGORIES:Concert
GEO:43.3849832;-72.0801034
X-APPLE-STRUCTURED-LOCATION;VALUE=URI;X-ADDRESS=Ben Mere Bandstand 2 Lake Ave Sunapee NH 03782 United States;X-APPLE-RADIUS=500;X-TITLE=2 Lake Ave:geo:-72.0801034,43.3849832
END:VEVENT
BEGIN:VEVENT
DTSTART;TZID=America/New_York:20180831T190000
DTEND;TZID=America/New_York:20180831T210000
DTSTAMP:20260425T233006
CREATED:20180727T002332Z
LAST-MODIFIED:20180727T002332Z
UID:10000619-1535742000-1535749200@lake-sunapee-living.com
SUMMARY:Live Music: The DoBros at The Livery
DESCRIPTION:“Four talented ‘twenty-something’ musicians playing acoustic & electric with great harmonies with a full sound. Music is creative\, original and of course\, cover the best classics!  Rich vocals with a touch of southern rock for your NH soul. \nView Website Here \nBUY TICKETS HERE for The Dobros
URL:https://lake-sunapee-living.com/event/live-music-the-dobros-at-the-livery/
LOCATION:NH\, United States
CATEGORIES:Concert
GEO:43.1938516;-71.5723953
END:VEVENT
BEGIN:VEVENT
DTSTART;TZID=America/New_York:20180914T190000
DTEND;TZID=America/New_York:20180914T213000
DTSTAMP:20260425T233006
CREATED:20180605T234927Z
LAST-MODIFIED:20180605T235005Z
UID:10000137-1536951600-1536960600@lake-sunapee-living.com
SUMMARY:Live Music: Cantrip at the LAC
DESCRIPTION:THREE BRIDGES CONCERT SERIES: a Celebration of Traditional Music \nThe name is an Old Scots word meaning a charm\, magic spell or piece of mischief and it aptly describes the unexpected twists and turns in their musical arrangements\, likewise the compelling potency of their musicianship. \nOriginally formed as a quartet\, Cantrip sprung from a local session in Edinburgh nearly twenty years ago. \nTickets are $16 in advance / $20 at the door\nlibraryartscenter.org/threebridges/
URL:https://lake-sunapee-living.com/event/live-music-cantrip-at-the-lac/
LOCATION:Library Arts Center\, 58 N. Main Street\, Newport\, NH\, 03773\, United States
CATEGORIES:Concert
GEO:43.3662756;-72.1758121
X-APPLE-STRUCTURED-LOCATION;VALUE=URI;X-ADDRESS=Library Arts Center 58 N. Main Street Newport NH 03773 United States;X-APPLE-RADIUS=500;X-TITLE=58 N. Main Street:geo:-72.1758121,43.3662756
END:VEVENT
BEGIN:VEVENT
DTSTART;TZID=America/New_York:20180927T200000
DTEND;TZID=America/New_York:20180927T220000
DTSTAMP:20260425T233006
CREATED:20180722T235317Z
LAST-MODIFIED:20180722T235648Z
UID:10000615-1538078400-1538085600@lake-sunapee-living.com
SUMMARY:Live Music: Lucy Kaplansky at the Flying Goose Pub
DESCRIPTION:Reservations required! Please call (603) 526-6899 to reserve your tickets. 8:00pm show with the room opening at 6:00pm for those interested in pre-show dinner seating. Seating is assigned by order of reservation and typically with smaller parties seated together. \nLucy Kaplansky is a rare vocal talent\, “a truly gifted performer…full of enchanting songs” (New York Times). Blending country\, folk and pop styles\, she has the unique ability to make every song sound fresh\, whether singing her own sweet originals\, covering country classics by June Carter Cash and Gram Parsons or singing pop favorites by Lennon/McCartney and Nick Lowe. \n 
URL:https://lake-sunapee-living.com/event/live-music-lucy-kaplansky-at-the-flying-goose-pub/
LOCATION:The Flying Goose Pub\, 40 Andover Road\, New London\, NH\, 03257\, United States
CATEGORIES:Concert
GEO:43.3994758;-71.9603714
X-APPLE-STRUCTURED-LOCATION;VALUE=URI;X-ADDRESS=The Flying Goose Pub 40 Andover Road New London NH 03257 United States;X-APPLE-RADIUS=500;X-TITLE=40 Andover Road:geo:-71.9603714,43.3994758
END:VEVENT
BEGIN:VEVENT
DTSTART;TZID=America/New_York:20181012T180000
DTEND;TZID=America/New_York:20181012T210000
DTSTAMP:20260425T233006
CREATED:20180911T005412Z
LAST-MODIFIED:20180911T005412Z
UID:10000624-1539367200-1539378000@lake-sunapee-living.com
SUMMARY:Latin Night at the Livery in Sunapee Harbor
DESCRIPTION:GET YOUR TICKETS!\nLatin Night at the Livery\n(Historic Livery House in Sunapee) \nMusic by Fun with Marie\nSpecial Menu and Drinks\, Silent Auction and Pinyata chances to win a dress watch from MJ Harringtons. \nTickets Limited to 75\nhttp://lakesunapeeregionchamber.com/events/details/latin-night-at-the-livery-3532
URL:https://lake-sunapee-living.com/event/latin-night-at-the-livery-in-sunapee-harbor/
LOCATION:The Livery\, 58 Main St.\, Sunapee\, NH\, 03782\, United States
CATEGORIES:Concert
GEO:43.3860983;-72.0826955
X-APPLE-STRUCTURED-LOCATION;VALUE=URI;X-ADDRESS=The Livery 58 Main St. Sunapee NH 03782 United States;X-APPLE-RADIUS=500;X-TITLE=58 Main St.:geo:-72.0826955,43.3860983
END:VEVENT
BEGIN:VEVENT
DTSTART;TZID=America/New_York:20181018T200000
DTEND;TZID=America/New_York:20181018T220000
DTSTAMP:20260425T233006
CREATED:20180722T235552Z
LAST-MODIFIED:20180722T235552Z
UID:10000616-1539892800-1539900000@lake-sunapee-living.com
SUMMARY:Live Music: Pat Donohue at the Flying Goose Pub
DESCRIPTION:8:00pm\, $20 \nReservations required! Please call (603) 526-6899 to reserve your tickets. 8:00pm show with the room opening at 6:00pm for those interested in pre-show dinner seating. Seating is assigned by order of reservation and typically with smaller parties seated together. \nGrammy winning finger-picker Pat Donohue’s devotion to acoustic guitar has made him an American standard\, as he echoes the tones of Robert Johnson\, Blind Blake\, Merle Travis or Muddy Waters. A versatile guitarist’s guitarist\, Pat enjoys entertaining fans with intricate fingerpicking\, easy wit\, and nimble interpretations of old blues\, swing\, R&B and original tunes.\n 
URL:https://lake-sunapee-living.com/event/live-music-pat-donohue-at-the-flying-goose-pub/
LOCATION:The Flying Goose Pub\, 40 Andover Road\, New London\, NH\, 03257\, United States
CATEGORIES:Concert
GEO:43.3994758;-71.9603714
X-APPLE-STRUCTURED-LOCATION;VALUE=URI;X-ADDRESS=The Flying Goose Pub 40 Andover Road New London NH 03257 United States;X-APPLE-RADIUS=500;X-TITLE=40 Andover Road:geo:-71.9603714,43.3994758
END:VEVENT
BEGIN:VEVENT
DTSTART;TZID=America/New_York:20181020T190000
DTEND;TZID=America/New_York:20181020T203000
DTSTAMP:20260425T233006
CREATED:20181012T191521Z
LAST-MODIFIED:20181012T191952Z
UID:10003596-1540062000-1540067400@lake-sunapee-living.com
SUMMARY:Lake Sunapee Area Flute Choir at The Wilmot Community Association
DESCRIPTION:Local Flute Choir to play in Wilmot \nThe Wilmot Community Association (WCA) will host a concert featuring the Lake Sunapee Area Flute Choir on Saturday\, October 20. \nThe free concert will begin at 7 p.m. at the Association’s Red Barn\, 64 Village Road in Wilmot. More information at www.WilmotWCA.org.
URL:https://lake-sunapee-living.com/event/lake-sunapee-area-flute-choir-at-the-wilmot-community-association/
LOCATION:Wilmot Community Association\, 64 Village Road\, Wilmot\, NH\, 03287\, United States
CATEGORIES:Concert
GEO:43.417626;-71.8952552
X-APPLE-STRUCTURED-LOCATION;VALUE=URI;X-ADDRESS=Wilmot Community Association 64 Village Road Wilmot NH 03287 United States;X-APPLE-RADIUS=500;X-TITLE=64 Village Road:geo:-71.8952552,43.417626
END:VEVENT
BEGIN:VEVENT
DTSTART;TZID=America/New_York:20181020T190000
DTEND;TZID=America/New_York:20181020T220000
DTSTAMP:20260425T233006
CREATED:20181003T005844Z
LAST-MODIFIED:20181003T005844Z
UID:10003592-1540062000-1540072800@lake-sunapee-living.com
SUMMARY:Live music at the Appleseed: Peabody’s Coal Train
DESCRIPTION:Come welcome back PCT for another great night of music at The Appleseed! \nThey put their own fun modern twist on some old time Appalachian sound.
URL:https://lake-sunapee-living.com/event/live-music-at-the-appleseed-peabodys-coal-train/
LOCATION:The Appleseed Restaurant\, 63 High Street\, Bradford\, NH\, 03221\, United States
CATEGORIES:Concert
GEO:43.2742069;-71.9690077
X-APPLE-STRUCTURED-LOCATION;VALUE=URI;X-ADDRESS=The Appleseed Restaurant 63 High Street Bradford NH 03221 United States;X-APPLE-RADIUS=500;X-TITLE=63 High Street:geo:-71.9690077,43.2742069
END:VEVENT
BEGIN:VEVENT
DTSTART;TZID=America/New_York:20181025T200000
DTEND;TZID=America/New_York:20181025T220000
DTSTAMP:20260425T233006
CREATED:20180722T235820Z
LAST-MODIFIED:20180722T235856Z
UID:10000617-1540497600-1540504800@lake-sunapee-living.com
SUMMARY:Live Music: Brooks Williams at the Flying Goose Pub
DESCRIPTION:8:00pm\, $20 \nReservations required! Please call (603) 526-6899 to reserve your tickets. 8:00pm show with the room opening at 6:00pm for those interested in pre-show dinner seating. Seating is assigned by order of reservation and typically with smaller parties seated together. \nBrooks Williams hails from Statesboro\, Georgia\, the town made famous by country-blues legend Blind Willie McTell. Ranked in the Top 100 Acoustic Guitarists\, he’s a mean finger-picker and a stunning slide guitarist. 
URL:https://lake-sunapee-living.com/event/live-music-brooks-williams-at-the-flying-goose-pub/
LOCATION:The Flying Goose Pub\, 40 Andover Road\, New London\, NH\, 03257\, United States
CATEGORIES:Concert
GEO:43.3994758;-71.9603714
X-APPLE-STRUCTURED-LOCATION;VALUE=URI;X-ADDRESS=The Flying Goose Pub 40 Andover Road New London NH 03257 United States;X-APPLE-RADIUS=500;X-TITLE=40 Andover Road:geo:-71.9603714,43.3994758
END:VEVENT
BEGIN:VEVENT
DTSTART;TZID=America/New_York:20181108T200000
DTEND;TZID=America/New_York:20181108T220000
DTSTAMP:20260425T233006
CREATED:20180723T000112Z
LAST-MODIFIED:20180723T000112Z
UID:10000202-1541707200-1541714400@lake-sunapee-living.com
SUMMARY:Live Music: Willy Porter at the Flying Goose Pub
DESCRIPTION:8:00pm\, $25 \nReservations required! Please call (603) 526-6899 to reserve your tickets. 8:00pm show with the room opening at 6:00pm for those interested in pre-show dinner seating. Seating is assigned by order of reservation and typically with smaller parties seated together. \n*TWO NIGHTS of performances! Please specify which date you are reserving for at the time of your purchase.* \nWilly Porter continues on a musical and personal odyssey spanning over two decades\, 11 albums\, and multiple continents. His journey has been defined by an inquisitive love for humanity and the language that describes what we all hold to be true. Porter’s songs weave a universal perspective about the questions\, struggles\, and triumphs of human existence. His live shows are guitar-driven grit\, soul\, silence and muscle– at times electrifying\, dynamic\, and unique in the way that Porter’s voice blends and fuses with his fret work. \n 
URL:https://lake-sunapee-living.com/event/live-music-willy-porter-at-the-flying-goose-pub/2018-11-08/
LOCATION:The Flying Goose Pub\, 40 Andover Road\, New London\, NH\, 03257\, United States
CATEGORIES:Concert
GEO:43.3994758;-71.9603714
X-APPLE-STRUCTURED-LOCATION;VALUE=URI;X-ADDRESS=The Flying Goose Pub 40 Andover Road New London NH 03257 United States;X-APPLE-RADIUS=500;X-TITLE=40 Andover Road:geo:-71.9603714,43.3994758
END:VEVENT
BEGIN:VEVENT
DTSTART;TZID=America/New_York:20181109T190000
DTEND;TZID=America/New_York:20181109T220000
DTSTAMP:20260425T233006
CREATED:20181003T010055Z
LAST-MODIFIED:20181003T010055Z
UID:10003593-1541790000-1541800800@lake-sunapee-living.com
SUMMARY:Live music at the Appleseed: Tyler Road
DESCRIPTION:Tyler Road is going to be gifting us with their sweet musical sound once again!
URL:https://lake-sunapee-living.com/event/live-music-at-the-appleseed-tyler-road/
LOCATION:The Appleseed Restaurant\, 63 High Street\, Bradford\, NH\, 03221\, United States
CATEGORIES:Concert
GEO:43.2742069;-71.9690077
X-APPLE-STRUCTURED-LOCATION;VALUE=URI;X-ADDRESS=The Appleseed Restaurant 63 High Street Bradford NH 03221 United States;X-APPLE-RADIUS=500;X-TITLE=63 High Street:geo:-71.9690077,43.2742069
END:VEVENT
BEGIN:VEVENT
DTSTART;TZID=America/New_York:20181129T200000
DTEND;TZID=America/New_York:20181129T200000
DTSTAMP:20260425T233006
CREATED:20180723T002920Z
LAST-MODIFIED:20180723T002920Z
UID:10000207-1543521600-1543521600@lake-sunapee-living.com
SUMMARY:Live Music: Ari Hest at the Flying Goose Pub
DESCRIPTION:8:00pm\, $20 \nReservations required! Please call (603) 526-6899 to reserve your tickets. 8:00pm show with the room opening at 6:00pm for those interested in pre-show dinner seating. Seating is assigned by order of reservation and typically with smaller parties seated together. \nAri released two independent albums and built a loyal following touring the U.S. college circuit extensively between 2000 and 2003. He then released two albums on Columbia Records\, Someone To Tell(2004) and The Break-In(2007) all the while touring both in the U.S. and abroad with the likes of Martin Sexton\, Suzanne Vega\, and Ani Difranco. \n 
URL:https://lake-sunapee-living.com/event/live-music-ari-hest-at-the-flying-goose-pub/
LOCATION:The Flying Goose Pub\, 40 Andover Road\, New London\, NH\, 03257\, United States
CATEGORIES:Concert
GEO:43.3994758;-71.9603714
X-APPLE-STRUCTURED-LOCATION;VALUE=URI;X-ADDRESS=The Flying Goose Pub 40 Andover Road New London NH 03257 United States;X-APPLE-RADIUS=500;X-TITLE=40 Andover Road:geo:-71.9603714,43.3994758
END:VEVENT
BEGIN:VEVENT
DTSTART;TZID=America/New_York:20181206T200000
DTEND;TZID=America/New_York:20181206T220000
DTSTAMP:20260425T233006
CREATED:20180723T003117Z
LAST-MODIFIED:20180723T003117Z
UID:10000209-1544126400-1544133600@lake-sunapee-living.com
SUMMARY:Live Music: Lula Wiles at the Flying Goose Pub
DESCRIPTION:8:00pm\, $20 \nReservations required! Please call (603) 526-6899 to reserve your tickets. 8:00pm show with the room opening at 6:00pm for those interested in pre-show dinner seating. Seating is assigned by order of reservation and typically with smaller parties seated together. \nLula Wiles is a band deeply rooted in traditional folk music\, but equally deep is their devotion to modern songcraft. Their songs span from heartbreak-drenched acoustic ballads to honky-tonk swagger to contemporary grit and back again\, all anchored by powerful three-part vocal harmonies. Their lyrics are fiercely honest\, littered with reinvented folk tropes and evocative images – a rainy field of daisies\, a dusty bar lit by Christmas lights\, an unmade bed. They deliver love songs that are at once defiant and heartsick\, as well as new contributions to the folk ballad canon and timely explorations of what it means to live in America today. Drawing from the deep wells of traditional old-time music\, classic country\, and contemporary indie-folk-rock songwriting and arranging\, Lula Wiles melds diverse influences to create a sound all their own. The three band members deftly swap instruments and frontwoman duties\, with Ellie Buckland (vocals/guitar/fiddle)\, Isa Burke (vocals/guitar/fiddle)\, and Mali Obomsawin (vocals/bass) each contributing their own singularly expressive vocals\, instrumental lines\, and songwriting. Onstage\, the band gathers tightly around a single microphone for a spirited and emotionally resonant live show. \n 
URL:https://lake-sunapee-living.com/event/live-music-lula-wiles-at-the-flying-goose-pub/
LOCATION:The Flying Goose Pub\, 40 Andover Road\, New London\, NH\, 03257\, United States
CATEGORIES:Concert
GEO:43.3994758;-71.9603714
X-APPLE-STRUCTURED-LOCATION;VALUE=URI;X-ADDRESS=The Flying Goose Pub 40 Andover Road New London NH 03257 United States;X-APPLE-RADIUS=500;X-TITLE=40 Andover Road:geo:-71.9603714,43.3994758
END:VEVENT
BEGIN:VEVENT
DTSTART;TZID=America/New_York:20181220T200000
DTEND;TZID=America/New_York:20181220T220000
DTSTAMP:20260425T233006
CREATED:20180723T003345Z
LAST-MODIFIED:20180723T003411Z
UID:10000212-1545336000-1545343200@lake-sunapee-living.com
SUMMARY:Live Music: Harvey Reid at the Flying Goose Pub
DESCRIPTION:8:00pm\, $25 \n25th Annual Holiday Concert with Joyce Andersen \nReservations required! Please call (603) 526-6899 to reserve your tickets. 8:00pm show with the room opening at 6:00pm for those interested in pre-show dinner seating. Seating is assigned by order of reservation and typically with smaller parties seated together. \n*TWO NIGHTS of performances! Be sure to specify which date you are reserving tickets for at the time of purchase.* \nSongwriter\, multi-instrumentalist and music educator Harvey Reid has honed his craft since the 1970’s in countless clubs\, festivals\, streetcorners\, cafes\, schools and concert halls across the nation. He has been called a “giant of the steel strings” and “one of the true treasures of American acoustic music\,” and is considered to be one of the modern masters and innovators of the acoustic guitar\, autoharp and 6-string banjo. He has absorbed a vast repertoire of American contemporary and roots music and woven it into his own colorful\, personal and distinctive style. His 32 recordings on Woodpecker Records showcase his mastery of many instruments and styles of acoustic music\, from hip folk to slashing slide guitar blues to bluegrass\, old-time\, Celtic\, ragtime\, and even classical.
URL:https://lake-sunapee-living.com/event/live-music-harvey-reid-at-the-flying-goose-pub/2018-12-20/
LOCATION:NH\, United States
CATEGORIES:Concert
GEO:43.1938516;-71.5723953
END:VEVENT
BEGIN:VEVENT
DTSTART;TZID=America/New_York:20181226T180000
DTEND;TZID=America/New_York:20181226T210000
DTSTAMP:20260425T233006
CREATED:20180531T231124Z
LAST-MODIFIED:20180531T233304Z
UID:10000115-1545847200-1545858000@lake-sunapee-living.com
SUMMARY:Live Music: Irish Trad' at the Salt Hill Pub Newport
DESCRIPTION:Live Irish Trad’ Session featuring Randy Miller and Roger Kahle\, every Wednesday from 6-9pm\, upstairs at Salt hill in Newport. \nThere’s nothing like traditional Irish tunes in a pub — players welcome! \nPlease call 603-863-7774 for more information.
URL:https://lake-sunapee-living.com/event/salt-hill-pub-newport-irish-trad-music/2018-12-26/
LOCATION:Salt Hill Pub Newport\, 58 Main Street\, Newport\, NH\, 03773\, United States
CATEGORIES:Concert
GEO:43.3634884;-72.1721101
X-APPLE-STRUCTURED-LOCATION;VALUE=URI;X-ADDRESS=Salt Hill Pub Newport 58 Main Street Newport NH 03773 United States;X-APPLE-RADIUS=500;X-TITLE=58 Main Street:geo:-72.1721101,43.3634884
END:VEVENT
BEGIN:VEVENT
DTSTART;TZID=America/New_York:20190310T140000
DTEND;TZID=America/New_York:20190310T153000
DTSTAMP:20260425T233006
CREATED:20181118T140006Z
LAST-MODIFIED:20181118T140006Z
UID:10000234-1552226400-1552231800@lake-sunapee-living.com
SUMMARY:Live Music: The Troubadors A Capella Concert at Whipple Hall
DESCRIPTION:The Troubadors A Capella Concert \nWhipple Hall   \n$17/$15 members (in advance) \nTickets on sale at Tatewell Gallery\, Morgan Hill Bookstore and online at \nwww.CenterForTheArtsNH.org 
URL:https://lake-sunapee-living.com/event/live-music-the-troubadors-a-capella-concert-at-whipple-hall/
LOCATION:Whipple Hall\, 429 Main Street\, New London\, NH\, 03257\, United States
CATEGORIES:Concert
GEO:43.4130294;-71.9807053
X-APPLE-STRUCTURED-LOCATION;VALUE=URI;X-ADDRESS=Whipple Hall 429 Main Street New London NH 03257 United States;X-APPLE-RADIUS=500;X-TITLE=429 Main Street:geo:-71.9807053,43.4130294
END:VEVENT
BEGIN:VEVENT
DTSTART;TZID=America/New_York:20221120T153000
DTEND;TZID=America/New_York:20221121T170000
DTSTAMP:20260425T233006
CREATED:20221004T034521Z
LAST-MODIFIED:20221004T113255Z
UID:10000608-1668958200-1669050000@lake-sunapee-living.com
SUMMARY:Kearsarge Chorale Sings Handel's MESSIAH
DESCRIPTION:Kearsarge Choral will present the baroque masterpiece favorite\, Messiah by G. F. Handel\, accompanied by orchestra and directed by Alex Ager\, at Our Lady of Fatima Church\, 724 Main St.\, New London\, NH 03257\, on Saturday\, November 19 at 7 p.m. and Sunday\, November 20 at 3:30 p.m. \nGuest soloists will be featured. Tickets ($20/Students $10) are available at the door\, at Tatewell Gallery and at Morgan Hill Bookstore. See website kearsargechorale.org for more details.
URL:https://lake-sunapee-living.com/event/kearsarge-chorale-sings-handels-messiah/2022-11-20/
LOCATION:Our Lady of Fatima Church\, 724 Main Street\, New London\, NH\, 03257\, United States
CATEGORIES:Concert
GEO:43.4076383;-71.9727586
X-APPLE-STRUCTURED-LOCATION;VALUE=URI;X-ADDRESS=Our Lady of Fatima Church 724 Main Street New London NH 03257 United States;X-APPLE-RADIUS=500;X-TITLE=724 Main Street:geo:-71.9727586,43.4076383
END:VEVENT
BEGIN:VEVENT
DTSTART;TZID=America/New_York:20250628T190000
DTEND;TZID=America/New_York:20250628T210000
DTSTAMP:20260425T233006
CREATED:20250615T160119Z
LAST-MODIFIED:20250615T160119Z
UID:10004587-1751137200-1751144400@lake-sunapee-living.com
SUMMARY:Live Music: Boston Civic Symphony With Ashley Bathgate\, Cellist
DESCRIPTION:Boston Civic Symphony With Ashley Bathgate\, Cellist \nSaturday June 28\, 2025 \nSawyer Theater At Colby-sawyer College \nFrancisco Noya\, Musical Director \nCamille Saint-saëns Cello Concerto No. 1 In A Minor Op.33 \nRichard Wagner Overture To Die Meistersinger Von Nürnberg \nRobert Schumann Symphony No. 4 \nAshleyBathgate.com
URL:https://lake-sunapee-living.com/event/live-music-boston-civic-symphony-with-ashley-bathgate-cellist/
LOCATION:Colby–Sawyer College\, 541 Main St\, New London\,\, NH\, 03257\, United States
CATEGORIES:Concert
GEO:43.4122613;-71.977968
X-APPLE-STRUCTURED-LOCATION;VALUE=URI;X-ADDRESS=Colby–Sawyer College 541 Main St New London NH 03257 United States;X-APPLE-RADIUS=500;X-TITLE=541 Main St:geo:-71.977968,43.4122613
END:VEVENT
END:VCALENDAR