BEGIN:VCALENDAR
VERSION:2.0
PRODID:-//Lake Sunapee Living - ECPv6.15.13//NONSGML v1.0//EN
CALSCALE:GREGORIAN
METHOD:PUBLISH
X-ORIGINAL-URL:https://lake-sunapee-living.com
X-WR-CALDESC:Events for Lake Sunapee Living
REFRESH-INTERVAL;VALUE=DURATION:PT1H
X-Robots-Tag:noindex
X-PUBLISHED-TTL:PT1H
BEGIN:VTIMEZONE
TZID:America/New_York
BEGIN:DAYLIGHT
TZOFFSETFROM:-0500
TZOFFSETTO:-0400
TZNAME:EDT
DTSTART:20240310T070000
END:DAYLIGHT
BEGIN:STANDARD
TZOFFSETFROM:-0400
TZOFFSETTO:-0500
TZNAME:EST
DTSTART:20241103T060000
END:STANDARD
BEGIN:DAYLIGHT
TZOFFSETFROM:-0500
TZOFFSETTO:-0400
TZNAME:EDT
DTSTART:20250309T070000
END:DAYLIGHT
BEGIN:STANDARD
TZOFFSETFROM:-0400
TZOFFSETTO:-0500
TZNAME:EST
DTSTART:20251102T060000
END:STANDARD
BEGIN:DAYLIGHT
TZOFFSETFROM:-0500
TZOFFSETTO:-0400
TZNAME:EDT
DTSTART:20260308T070000
END:DAYLIGHT
BEGIN:STANDARD
TZOFFSETFROM:-0400
TZOFFSETTO:-0500
TZNAME:EST
DTSTART:20261101T060000
END:STANDARD
END:VTIMEZONE
BEGIN:VEVENT
DTSTART;TZID=America/New_York:20250628T190000
DTEND;TZID=America/New_York:20250628T210000
DTSTAMP:20260425T234833
CREATED:20250615T160119Z
LAST-MODIFIED:20250615T160119Z
UID:10004587-1751137200-1751144400@lake-sunapee-living.com
SUMMARY:Live Music: Boston Civic Symphony With Ashley Bathgate\, Cellist
DESCRIPTION:Boston Civic Symphony With Ashley Bathgate\, Cellist \nSaturday June 28\, 2025 \nSawyer Theater At Colby-sawyer College \nFrancisco Noya\, Musical Director \nCamille Saint-saëns Cello Concerto No. 1 In A Minor Op.33 \nRichard Wagner Overture To Die Meistersinger Von Nürnberg \nRobert Schumann Symphony No. 4 \nAshleyBathgate.com
URL:https://lake-sunapee-living.com/event/live-music-boston-civic-symphony-with-ashley-bathgate-cellist/
LOCATION:Colby–Sawyer College\, 541 Main St\, New London\,\, NH\, 03257\, United States
CATEGORIES:Concert
GEO:43.4122613;-71.977968
X-APPLE-STRUCTURED-LOCATION;VALUE=URI;X-ADDRESS=Colby–Sawyer College 541 Main St New London NH 03257 United States;X-APPLE-RADIUS=500;X-TITLE=541 Main St:geo:-71.977968,43.4122613
END:VEVENT
END:VCALENDAR