BEGIN:VCALENDAR
VERSION:2.0
PRODID:-//Lake Sunapee Living - ECPv6.15.13//NONSGML v1.0//EN
CALSCALE:GREGORIAN
METHOD:PUBLISH
X-WR-CALNAME:Lake Sunapee Living
X-ORIGINAL-URL:https://lake-sunapee-living.com
X-WR-CALDESC:Events for Lake Sunapee Living
REFRESH-INTERVAL;VALUE=DURATION:PT1H
X-Robots-Tag:noindex
X-PUBLISHED-TTL:PT1H
BEGIN:VTIMEZONE
TZID:America/New_York
BEGIN:DAYLIGHT
TZOFFSETFROM:-0500
TZOFFSETTO:-0400
TZNAME:EDT
DTSTART:20160313T070000
END:DAYLIGHT
BEGIN:STANDARD
TZOFFSETFROM:-0400
TZOFFSETTO:-0500
TZNAME:EST
DTSTART:20161106T060000
END:STANDARD
BEGIN:DAYLIGHT
TZOFFSETFROM:-0500
TZOFFSETTO:-0400
TZNAME:EDT
DTSTART:20170312T070000
END:DAYLIGHT
BEGIN:STANDARD
TZOFFSETFROM:-0400
TZOFFSETTO:-0500
TZNAME:EST
DTSTART:20171105T060000
END:STANDARD
BEGIN:DAYLIGHT
TZOFFSETFROM:-0500
TZOFFSETTO:-0400
TZNAME:EDT
DTSTART:20180311T070000
END:DAYLIGHT
BEGIN:STANDARD
TZOFFSETFROM:-0400
TZOFFSETTO:-0500
TZNAME:EST
DTSTART:20181104T060000
END:STANDARD
BEGIN:DAYLIGHT
TZOFFSETFROM:-0500
TZOFFSETTO:-0400
TZNAME:EDT
DTSTART:20190310T070000
END:DAYLIGHT
BEGIN:STANDARD
TZOFFSETFROM:-0400
TZOFFSETTO:-0500
TZNAME:EST
DTSTART:20191103T060000
END:STANDARD
END:VTIMEZONE
BEGIN:VEVENT
DTSTART;TZID=America/New_York:20180120T130000
DTEND;TZID=America/New_York:20180120T153000
DTSTAMP:20260424T163220
CREATED:20180106T010206Z
LAST-MODIFIED:20180106T010206Z
UID:10000199-1516453200-1516462200@lake-sunapee-living.com
SUMMARY:Wilmot Community Association Annual Meeting
DESCRIPTION:WCA Annual Meeting and special presentation for dog lovers \nJoin the board of directors of the Wilmot Community Association (WCA) for an action-packed Annual Meeting at 1 p.m. on Saturday\, January 20. The meeting will take place at the WCA’s  Red Barn at 64 Village Road in Wilmot. All are welcome and WCA members are encouraged to attend. Meet with friends and neighbors\, cheer 2017 successes and learn about plans for 2018. Make sure you stick around for refreshments and a great presentation on New Hampshire’s state dog by Bob Cottrell. \nmore info: \nhttp://www.WilmotWCA.org
URL:https://lake-sunapee-living.com/event/wilmot-community-association-annual-meeting/
CATEGORIES:Community Event
ATTACH;FMTTYPE=image/jpeg:https://lake-sunapee-living.com/wp-content/uploads/2018/01/chinook.jpg
END:VEVENT
BEGIN:VEVENT
DTSTART;TZID=America/New_York:20171021T103000
DTEND;TZID=America/New_York:20171021T120000
DTSTAMP:20260424T163220
CREATED:20170930T154144Z
LAST-MODIFIED:20170930T154144Z
UID:10000166-1508581800-1508587200@lake-sunapee-living.com
SUMMARY:Annual Scarecrow Build at the Goshen Town Hall
DESCRIPTION:Olive Pettis Memorial Library Annual Scarecrow Build \nAt the Goshen Town Hall \n54 Mill Village Rd.\, North \nRain or shine
URL:https://lake-sunapee-living.com/event/annual-scarecrow-build-goshen-town-hall/
CATEGORIES:Community Event
END:VEVENT
BEGIN:VEVENT
DTSTART;VALUE=DATE:20171001
DTEND;VALUE=DATE:20171002
DTSTAMP:20260424T163220
CREATED:20170908T000736Z
LAST-MODIFIED:20170908T000814Z
UID:10000069-1506816000-1506902399@lake-sunapee-living.com
SUMMARY:Return of the Pumpkin People - New London Recreation Dept.
DESCRIPTION:Return of the Pumpkin People contest is a fun community event open to all. This contest (all along Main Street\, New London\, NH) starts October 1st until October 31st. Judging will be Saturday\, October 21st for Business\, Organizations and residential catagories. For more information please call Scott Blewitt\, Recreation Director @ 526-6401
URL:https://lake-sunapee-living.com/event/return-pumpkin-people-new-london-recreation-dept/
CATEGORIES:Community Event
END:VEVENT
END:VCALENDAR