BEGIN:VCALENDAR
VERSION:2.0
PRODID:-//Lake Sunapee Living - ECPv6.15.13//NONSGML v1.0//EN
CALSCALE:GREGORIAN
METHOD:PUBLISH
X-ORIGINAL-URL:https://lake-sunapee-living.com
X-WR-CALDESC:Events for Lake Sunapee Living
REFRESH-INTERVAL;VALUE=DURATION:PT1H
X-Robots-Tag:noindex
X-PUBLISHED-TTL:PT1H
BEGIN:VTIMEZONE
TZID:America/New_York
BEGIN:DAYLIGHT
TZOFFSETFROM:-0500
TZOFFSETTO:-0400
TZNAME:EDT
DTSTART:20180311T070000
END:DAYLIGHT
BEGIN:STANDARD
TZOFFSETFROM:-0400
TZOFFSETTO:-0500
TZNAME:EST
DTSTART:20181104T060000
END:STANDARD
BEGIN:DAYLIGHT
TZOFFSETFROM:-0500
TZOFFSETTO:-0400
TZNAME:EDT
DTSTART:20190310T070000
END:DAYLIGHT
BEGIN:STANDARD
TZOFFSETFROM:-0400
TZOFFSETTO:-0500
TZNAME:EST
DTSTART:20191103T060000
END:STANDARD
BEGIN:DAYLIGHT
TZOFFSETFROM:-0500
TZOFFSETTO:-0400
TZNAME:EDT
DTSTART:20200308T070000
END:DAYLIGHT
BEGIN:STANDARD
TZOFFSETFROM:-0400
TZOFFSETTO:-0500
TZNAME:EST
DTSTART:20201101T060000
END:STANDARD
BEGIN:DAYLIGHT
TZOFFSETFROM:-0500
TZOFFSETTO:-0400
TZNAME:EDT
DTSTART:20210314T070000
END:DAYLIGHT
BEGIN:STANDARD
TZOFFSETFROM:-0400
TZOFFSETTO:-0500
TZNAME:EST
DTSTART:20211107T060000
END:STANDARD
BEGIN:DAYLIGHT
TZOFFSETFROM:-0500
TZOFFSETTO:-0400
TZNAME:EDT
DTSTART:20220313T070000
END:DAYLIGHT
BEGIN:STANDARD
TZOFFSETFROM:-0400
TZOFFSETTO:-0500
TZNAME:EST
DTSTART:20221106T060000
END:STANDARD
BEGIN:DAYLIGHT
TZOFFSETFROM:-0500
TZOFFSETTO:-0400
TZNAME:EDT
DTSTART:20230312T070000
END:DAYLIGHT
BEGIN:STANDARD
TZOFFSETFROM:-0400
TZOFFSETTO:-0500
TZNAME:EST
DTSTART:20231105T060000
END:STANDARD
BEGIN:DAYLIGHT
TZOFFSETFROM:-0500
TZOFFSETTO:-0400
TZNAME:EDT
DTSTART:20240310T070000
END:DAYLIGHT
BEGIN:STANDARD
TZOFFSETFROM:-0400
TZOFFSETTO:-0500
TZNAME:EST
DTSTART:20241103T060000
END:STANDARD
BEGIN:DAYLIGHT
TZOFFSETFROM:-0500
TZOFFSETTO:-0400
TZNAME:EDT
DTSTART:20250309T070000
END:DAYLIGHT
BEGIN:STANDARD
TZOFFSETFROM:-0400
TZOFFSETTO:-0500
TZNAME:EST
DTSTART:20251102T060000
END:STANDARD
BEGIN:DAYLIGHT
TZOFFSETFROM:-0500
TZOFFSETTO:-0400
TZNAME:EDT
DTSTART:20260308T070000
END:DAYLIGHT
BEGIN:STANDARD
TZOFFSETFROM:-0400
TZOFFSETTO:-0500
TZNAME:EST
DTSTART:20261101T060000
END:STANDARD
END:VTIMEZONE
BEGIN:VEVENT
DTSTART;TZID=America/New_York:20251206T090000
DTEND;TZID=America/New_York:20251206T170000
DTSTAMP:20260424T192647
CREATED:20251122T145228Z
LAST-MODIFIED:20251122T145228Z
UID:10004623-1765011600-1765040400@lake-sunapee-living.com
SUMMARY:Christmas Craft Fair at the Lempster Community School
DESCRIPTION:Sat\, Dec 6th 9:00AM to 2:00PM \nat Lempster Community School \nInterested in renting booth space? \nemail Mrs. Murray for an application form. amurray@SAU71.org \nWe only take cash and checks as payment.
URL:https://lake-sunapee-living.com/event/christmas-craft-fair-at-the-lempster-community-school/
LOCATION:Lempster Community School\, 29 School Rd\, Lempster\, NH\, 03605\, United States
CATEGORIES:Christmas
END:VEVENT
BEGIN:VEVENT
DTSTART;TZID=America/New_York:20251202T170000
DTEND;TZID=America/New_York:20251202T180000
DTSTAMP:20260424T192647
CREATED:20251122T130011Z
LAST-MODIFIED:20251122T130011Z
UID:10004621-1764694800-1764698400@lake-sunapee-living.com
SUMMARY:Ella Casey Christmas Tree Lighting
DESCRIPTION:All are welcome to our 3rd Annual Christmas Tree Lighting on Tuesday\, December 2nd from 5-6pm at the Depot Building in honor of the one and only\, Ms. Ella M. Casey\, longtime\, beloved Executive Director of the Newport Chamber\, and dedicated citizen. Kick off the holiday season with cookies\, cocoa and carols. The tree lighting will be at 5:30pm.
URL:https://lake-sunapee-living.com/event/ella-casey-christmas-tree-lighting/
LOCATION:Meadow Park Recreation\, 19 Depot St\, Newport\, Newport\, NH\, 03773\, United States
CATEGORIES:Christmas
END:VEVENT
BEGIN:VEVENT
DTSTART;TZID=America/New_York:20241214T130000
DTEND;TZID=America/New_York:20241214T160000
DTSTAMP:20260424T192647
CREATED:20240727T160158Z
LAST-MODIFIED:20240727T160158Z
UID:10004345-1734181200-1734192000@lake-sunapee-living.com
SUMMARY:Sunapee Christmas Village
DESCRIPTION:* Santa Fire Truck Parade\n* Write a Letter to Santa\n* Visit Santa and Ms. Claus\n* Gingerbread House Contest\n* Holiday Cardboard Vilage\nand More\nwww.projectsunapee.org
URL:https://lake-sunapee-living.com/event/sunapee-christmas-village/
LOCATION:Sunapee Harbor\, 67 Main Street\, Sunapee\, NH\, 03782\, United States
CATEGORIES:Christmas
ORGANIZER;CN="Louis Bradbard":MAILTO:lbradbard@mac.com
GEO:43.3856379;-72.0816099
X-APPLE-STRUCTURED-LOCATION;VALUE=URI;X-ADDRESS=Sunapee Harbor 67 Main Street Sunapee NH 03782 United States;X-APPLE-RADIUS=500;X-TITLE=67 Main Street:geo:-72.0816099,43.3856379
END:VEVENT
BEGIN:VEVENT
DTSTART;TZID=America/New_York:20211223T160000
DTEND;TZID=America/New_York:20211223T210000
DTSTAMP:20260424T192647
CREATED:20211212T225906Z
LAST-MODIFIED:20211212T225906Z
UID:10004101-1640275200-1640293200@lake-sunapee-living.com
SUMMARY:Ugly Sweater Christmas Party at The Anchorage at Sunapee Harbor
DESCRIPTION:Join us on December 23rd at 4pm to close for an ugly Christmas sweater party!\n\nThe person with the best Christmas sweater will win a $50 gift card\, Anchorage apparel\, and beer swag!\n\nThere will be live music 6pm to 9pm by Tony Lee Thomas and our ENTIRE menu will be buy one get one half off! (half off the lesser of the two)
URL:https://lake-sunapee-living.com/event/ugly-sweater-christmas-party-at-the-anchorage-at-sunapee-harbor/
LOCATION:The Anchorage\, 71 Main St\, Sunapee\, NH\, 03782\, United States
CATEGORIES:Christmas
GEO:43.385932;-72.081281
X-APPLE-STRUCTURED-LOCATION;VALUE=URI;X-ADDRESS=The Anchorage 71 Main St Sunapee NH 03782 United States;X-APPLE-RADIUS=500;X-TITLE=71 Main St:geo:-72.081281,43.385932
END:VEVENT
BEGIN:VEVENT
DTSTART;TZID=America/New_York:20191215T160000
DTEND;TZID=America/New_York:20191215T170000
DTSTAMP:20260424T192647
CREATED:20191130T130228Z
LAST-MODIFIED:20191130T130228Z
UID:10000371-1576425600-1576429200@lake-sunapee-living.com
SUMMARY:Annual Children’s Christmas Party Hosted by Newbury Fire Rescue
DESCRIPTION:Save the date for the annual Newbury Fire Rescue Christmas party for the children of Newbury.
URL:https://lake-sunapee-living.com/event/annual-childrens-christmas-party-hosted-by-newbury-fire-rescue/
LOCATION:Newbury Fire Rescue\, 952 Route 103\, Newbury\, NH\, 03255\, United States
CATEGORIES:Christmas
GEO:43.321139;-72.0364825
X-APPLE-STRUCTURED-LOCATION;VALUE=URI;X-ADDRESS=Newbury Fire Rescue 952 Route 103 Newbury NH 03255 United States;X-APPLE-RADIUS=500;X-TITLE=952 Route 103:geo:-72.0364825,43.321139
END:VEVENT
BEGIN:VEVENT
DTSTART;TZID=America/New_York:20191201T170000
DTEND;TZID=America/New_York:20191201T180000
DTSTAMP:20260424T192647
CREATED:20191130T124926Z
LAST-MODIFIED:20191130T124926Z
UID:10003853-1575219600-1575223200@lake-sunapee-living.com
SUMMARY:Lighting of the Christmas Tree at Newbury Center Meeting House
DESCRIPTION:FREE EVENT: Come join us for a caroling event and a festive lighting of the town’s tree adjacent to the Meeting House. Newbury’s Beautification Committee will set up refreshments in the Vets Hall afterwards.
URL:https://lake-sunapee-living.com/event/lighting-of-the-christmas-tree-at-newbury-center-meeting-house/
LOCATION:Center Meeting House of Newbury\, 945 Route 103\, Newbury\, NH\, 03255\, United States
CATEGORIES:Christmas
GEO:43.3210232;-72.0357749
X-APPLE-STRUCTURED-LOCATION;VALUE=URI;X-ADDRESS=Center Meeting House of Newbury 945 Route 103 Newbury NH 03255 United States;X-APPLE-RADIUS=500;X-TITLE=945 Route 103:geo:-72.0357749,43.3210232
END:VEVENT
END:VCALENDAR