BEGIN:VCALENDAR
VERSION:2.0
PRODID:-//Lake Sunapee Living - ECPv6.15.13//NONSGML v1.0//EN
CALSCALE:GREGORIAN
METHOD:PUBLISH
X-ORIGINAL-URL:https://lake-sunapee-living.com
X-WR-CALDESC:Events for Lake Sunapee Living
REFRESH-INTERVAL;VALUE=DURATION:PT1H
X-Robots-Tag:noindex
X-PUBLISHED-TTL:PT1H
BEGIN:VTIMEZONE
TZID:America/New_York
BEGIN:DAYLIGHT
TZOFFSETFROM:-0500
TZOFFSETTO:-0400
TZNAME:EDT
DTSTART:20170312T070000
END:DAYLIGHT
BEGIN:STANDARD
TZOFFSETFROM:-0400
TZOFFSETTO:-0500
TZNAME:EST
DTSTART:20171105T060000
END:STANDARD
BEGIN:DAYLIGHT
TZOFFSETFROM:-0500
TZOFFSETTO:-0400
TZNAME:EDT
DTSTART:20180311T070000
END:DAYLIGHT
BEGIN:STANDARD
TZOFFSETFROM:-0400
TZOFFSETTO:-0500
TZNAME:EST
DTSTART:20181104T060000
END:STANDARD
BEGIN:DAYLIGHT
TZOFFSETFROM:-0500
TZOFFSETTO:-0400
TZNAME:EDT
DTSTART:20190310T070000
END:DAYLIGHT
BEGIN:STANDARD
TZOFFSETFROM:-0400
TZOFFSETTO:-0500
TZNAME:EST
DTSTART:20191103T060000
END:STANDARD
BEGIN:DAYLIGHT
TZOFFSETFROM:-0500
TZOFFSETTO:-0400
TZNAME:EDT
DTSTART:20200308T070000
END:DAYLIGHT
BEGIN:STANDARD
TZOFFSETFROM:-0400
TZOFFSETTO:-0500
TZNAME:EST
DTSTART:20201101T060000
END:STANDARD
BEGIN:DAYLIGHT
TZOFFSETFROM:-0500
TZOFFSETTO:-0400
TZNAME:EDT
DTSTART:20210314T070000
END:DAYLIGHT
BEGIN:STANDARD
TZOFFSETFROM:-0400
TZOFFSETTO:-0500
TZNAME:EST
DTSTART:20211107T060000
END:STANDARD
BEGIN:DAYLIGHT
TZOFFSETFROM:-0500
TZOFFSETTO:-0400
TZNAME:EDT
DTSTART:20220313T070000
END:DAYLIGHT
BEGIN:STANDARD
TZOFFSETFROM:-0400
TZOFFSETTO:-0500
TZNAME:EST
DTSTART:20221106T060000
END:STANDARD
BEGIN:DAYLIGHT
TZOFFSETFROM:-0500
TZOFFSETTO:-0400
TZNAME:EDT
DTSTART:20230312T070000
END:DAYLIGHT
BEGIN:STANDARD
TZOFFSETFROM:-0400
TZOFFSETTO:-0500
TZNAME:EST
DTSTART:20231105T060000
END:STANDARD
BEGIN:DAYLIGHT
TZOFFSETFROM:-0500
TZOFFSETTO:-0400
TZNAME:EDT
DTSTART:20240310T070000
END:DAYLIGHT
BEGIN:STANDARD
TZOFFSETFROM:-0400
TZOFFSETTO:-0500
TZNAME:EST
DTSTART:20241103T060000
END:STANDARD
BEGIN:DAYLIGHT
TZOFFSETFROM:-0500
TZOFFSETTO:-0400
TZNAME:EDT
DTSTART:20250309T070000
END:DAYLIGHT
BEGIN:STANDARD
TZOFFSETFROM:-0400
TZOFFSETTO:-0500
TZNAME:EST
DTSTART:20251102T060000
END:STANDARD
END:VTIMEZONE
BEGIN:VEVENT
DTSTART;TZID=America/New_York:20180616T110000
DTEND;TZID=America/New_York:20180616T150000
DTSTAMP:20260424T173913
CREATED:20180604T221705Z
LAST-MODIFIED:20180604T221726Z
UID:10000374-1529146800-1529161200@lake-sunapee-living.com
SUMMARY:Newport Nano Brewfest
DESCRIPTION:The 5th annual Newport Nano Brewfest features dozens of the best local\, brewer owned\, hard to find\, craft beers New Hampshire has to offer. \nThis is your chance to sample some of the best beers around\, talk with the brewers themselves\, and see what New Hampshire has to offer!
URL:https://lake-sunapee-living.com/event/newport-nano-brewfest/
LOCATION:Newport Town Common\, 15 Park St\, Newport\, NH\, 03773\, United States
CATEGORIES:Brewfest
GEO:43.3659042;-72.1734984
X-APPLE-STRUCTURED-LOCATION;VALUE=URI;X-ADDRESS=Newport Town Common 15 Park St Newport NH 03773 United States;X-APPLE-RADIUS=500;X-TITLE=15 Park St:geo:-72.1734984,43.3659042
END:VEVENT
BEGIN:VEVENT
DTSTART;TZID=America/New_York:20190615T110000
DTEND;TZID=America/New_York:20190615T150000
DTSTAMP:20260424T173913
CREATED:20190513T004409Z
LAST-MODIFIED:20190513T004441Z
UID:10000270-1560596400-1560610800@lake-sunapee-living.com
SUMMARY:6th Annual Newport Nano Brewfest
DESCRIPTION:Spring into Summer and kick off Fathers Day weekend with our 6th annual Newport Nano Brewfest. Sample some of the best\, small batch\, craft beers & breweries New Hampshire has to offer. \nWith no disrespect to the big guys\, we focus on the best\, hard to find\, nano breweries that New Hampshire has! Unlimited sampling\, but please drink responsibly. \nNEW THIS YEAR – the VIP Hour 11 – Noon – special VIP only beer\, an extra hour to sample\, live music\, and free limited edition t-shirt. VIP Hour is a limited affair and sold online first come\, first serve.
URL:https://lake-sunapee-living.com/event/newport-nano-brewfest-6th-annual/
LOCATION:NH\, United States
CATEGORIES:Brewfest
END:VEVENT
BEGIN:VEVENT
DTSTART;TZID=America/New_York:20210619T110000
DTEND;TZID=America/New_York:20210619T140000
DTSTAMP:20260424T173913
CREATED:20210523T161645Z
LAST-MODIFIED:20210523T161645Z
UID:10000465-1624100400-1624111200@lake-sunapee-living.com
SUMMARY:Newport 7th Nano Brewfest
DESCRIPTION:Individual tickets to the 7th Nano Brewfest are now available!\n\nTickets are $40 per person. This gets you in the gates and you have unlimited sampling available (upon reason obviously.).\n\n\n\nTables are still available for $200 for 6 people. You will be guaranteed your own space to be\, plus it’s more cost effective for your party of 6.\n\n\n\nGet your tickets here online. We are still limiting to just 200 people in attendance\, so don’t be caught without your ticket to this beer-centric event! \n\n\neventbrite.com/…/the-7th-Newport-Nano-Brewfest
URL:https://lake-sunapee-living.com/event/newport-7th-nano-brewfest/
LOCATION:Newport Town Common\, 15 Park St\, Newport\, NH\, 03773\, United States
CATEGORIES:Brewfest
GEO:43.3659042;-72.1734984
X-APPLE-STRUCTURED-LOCATION;VALUE=URI;X-ADDRESS=Newport Town Common 15 Park St Newport NH 03773 United States;X-APPLE-RADIUS=500;X-TITLE=15 Park St:geo:-72.1734984,43.3659042
END:VEVENT
BEGIN:VEVENT
DTSTART;TZID=America/New_York:20210619T110000
DTEND;TZID=America/New_York:20210619T140000
DTSTAMP:20260424T173913
CREATED:20210415T230049Z
LAST-MODIFIED:20210415T230049Z
UID:10004005-1624100400-1624111200@lake-sunapee-living.com
SUMMARY:The 7th Newport Nano Brewfest
DESCRIPTION:We are back!\n\nThe 7th Newport Nano Brewfest features some of the best small batch\, local\, Nano Breweries in New Hampshire.\n\nSample some all different types of beer and have a great time on the Newport Town Common.\n\nTables of 6 are being sold\, with a limit of 33 available 6-person tables.\n\n\n\n\n\n\n\n\nTickets · $200 for table of 6
URL:https://lake-sunapee-living.com/event/the-7th-newport-nano-brewfest/
LOCATION:Newport Town Common\, 15 Park St\, Newport\, NH\, 03773\, United States
CATEGORIES:Brewfest
GEO:43.3659042;-72.1734984
X-APPLE-STRUCTURED-LOCATION;VALUE=URI;X-ADDRESS=Newport Town Common 15 Park St Newport NH 03773 United States;X-APPLE-RADIUS=500;X-TITLE=15 Park St:geo:-72.1734984,43.3659042
END:VEVENT
BEGIN:VEVENT
DTSTART;TZID=America/New_York:20241129T120000
DTEND;TZID=America/New_York:20241129T200000
DTSTAMP:20260424T173913
CREATED:20241119T010745Z
LAST-MODIFIED:20241119T010745Z
UID:10004352-1732881600-1732910400@lake-sunapee-living.com
SUMMARY:Live Music: Clint Pecor at the Hoptimystic Brewing End of Season Bash
DESCRIPTION:Our time at 71 Main Street is coming to a close. \nIt was a temporary summer spot but the location and people are making it hard to say goodbye. \nWe had an amazing time in Sunapee Harbor. \nJoin us for a kick ass going away party on 11/29. \nWe will be celebrating as this will be our last day open! \nClint Pecor will be providing entertainment from 5-8p.
URL:https://lake-sunapee-living.com/event/live-music-clint-pecor-at-the-hoptimystic-brewing-end-of-season-bash/
LOCATION:Hoptimystic Brewing\, Main Street 71\, Sunapee\, NH\, 03782\, United States
CATEGORIES:Brewfest
GEO:43.3859439;-72.0812888
X-APPLE-STRUCTURED-LOCATION;VALUE=URI;X-ADDRESS=Hoptimystic Brewing Main Street 71 Sunapee NH 03782 United States;X-APPLE-RADIUS=500;X-TITLE=Main Street 71:geo:-72.0812888,43.3859439
END:VEVENT
END:VCALENDAR