BEGIN:VCALENDAR
VERSION:2.0
PRODID:-//Lake Sunapee Living - ECPv6.15.13//NONSGML v1.0//EN
CALSCALE:GREGORIAN
METHOD:PUBLISH
X-ORIGINAL-URL:https://lake-sunapee-living.com
X-WR-CALDESC:Events for Lake Sunapee Living
REFRESH-INTERVAL;VALUE=DURATION:PT1H
X-Robots-Tag:noindex
X-PUBLISHED-TTL:PT1H
BEGIN:VTIMEZONE
TZID:America/New_York
BEGIN:DAYLIGHT
TZOFFSETFROM:-0500
TZOFFSETTO:-0400
TZNAME:EDT
DTSTART:20170312T070000
END:DAYLIGHT
BEGIN:STANDARD
TZOFFSETFROM:-0400
TZOFFSETTO:-0500
TZNAME:EST
DTSTART:20171105T060000
END:STANDARD
BEGIN:DAYLIGHT
TZOFFSETFROM:-0500
TZOFFSETTO:-0400
TZNAME:EDT
DTSTART:20180311T070000
END:DAYLIGHT
BEGIN:STANDARD
TZOFFSETFROM:-0400
TZOFFSETTO:-0500
TZNAME:EST
DTSTART:20181104T060000
END:STANDARD
BEGIN:DAYLIGHT
TZOFFSETFROM:-0500
TZOFFSETTO:-0400
TZNAME:EDT
DTSTART:20190310T070000
END:DAYLIGHT
BEGIN:STANDARD
TZOFFSETFROM:-0400
TZOFFSETTO:-0500
TZNAME:EST
DTSTART:20191103T060000
END:STANDARD
BEGIN:DAYLIGHT
TZOFFSETFROM:-0500
TZOFFSETTO:-0400
TZNAME:EDT
DTSTART:20200308T070000
END:DAYLIGHT
BEGIN:STANDARD
TZOFFSETFROM:-0400
TZOFFSETTO:-0500
TZNAME:EST
DTSTART:20201101T060000
END:STANDARD
BEGIN:DAYLIGHT
TZOFFSETFROM:-0500
TZOFFSETTO:-0400
TZNAME:EDT
DTSTART:20210314T070000
END:DAYLIGHT
BEGIN:STANDARD
TZOFFSETFROM:-0400
TZOFFSETTO:-0500
TZNAME:EST
DTSTART:20211107T060000
END:STANDARD
END:VTIMEZONE
BEGIN:VEVENT
DTSTART;TZID=America/New_York:20200718T090000
DTEND;TZID=America/New_York:20200718T130000
DTSTAMP:20260424T165942
CREATED:20200710T023523Z
LAST-MODIFIED:20200710T023612Z
UID:10003970-1595062800-1595077200@lake-sunapee-living.com
SUMMARY:Olive Pettis Memorial Library Five-Buck-Bag Book Sale
DESCRIPTION:The adventure is all in the find!\n(we supply the bags) \n-Rain or Shine \nFor your safety\, tables will be set up for one way lanes\, please wear your mask and help maintain proper social distancing.
URL:https://lake-sunapee-living.com/event/olive-pettis-memorial-library-five-buck-bag-book-sale-2/
LOCATION:Olive Pettis Memorial Library\, 36 Mill Village Rd\, Goshen\, NH\, 03752\, United States
CATEGORIES:Book Sale
GEO:43.3020714;-72.1491336
X-APPLE-STRUCTURED-LOCATION;VALUE=URI;X-ADDRESS=Olive Pettis Memorial Library 36 Mill Village Rd Goshen NH 03752 United States;X-APPLE-RADIUS=500;X-TITLE=36 Mill Village Rd:geo:-72.1491336,43.3020714
END:VEVENT
BEGIN:VEVENT
DTSTART;TZID=America/New_York:20181215T100000
DTEND;TZID=America/New_York:20181215T140000
DTSTAMP:20260424T165942
CREATED:20181214T033556Z
LAST-MODIFIED:20181214T033556Z
UID:10000251-1544868000-1544882400@lake-sunapee-living.com
SUMMARY:Goshen Library: The Last Book Sale Before Christmas
DESCRIPTION:The Last Book Sale Before Christmas  \nGoshen Town Hall\n54 Mill Village Road\, (Rte 10) Goshen\, NH \n$3/sack (we provide the sacks)  \nLots of clean donations\nEx-Library titles\nKids\, Teens\, YA and General Fiction and Nonfiction\nArt Books\nDVDs & Audio CD books\nsome free discards\nvintage Dickens & more
URL:https://lake-sunapee-living.com/event/goshen-library-the-last-book-sale-before-christmas/
LOCATION:Goshen Town Hall\, 54 Mill Vilage Rd\, Goshen\, NH\, 03752\, United States
CATEGORIES:Book Sale
GEO:43.3022926;-72.1494048
X-APPLE-STRUCTURED-LOCATION;VALUE=URI;X-ADDRESS=Goshen Town Hall 54 Mill Vilage Rd Goshen NH 03752 United States;X-APPLE-RADIUS=500;X-TITLE=54 Mill Vilage Rd:geo:-72.1494048,43.3022926
END:VEVENT
BEGIN:VEVENT
DTSTART;TZID=America/New_York:20180707T090000
DTEND;TZID=America/New_York:20180707T130000
DTSTAMP:20260424T165942
CREATED:20180705T140219Z
LAST-MODIFIED:20180705T140240Z
UID:10000195-1530954000-1530968400@lake-sunapee-living.com
SUMMARY:Olive Pettis Memorial Library Five-Buck-Bag BOOK SALE
DESCRIPTION:Olive Pettis Memorial Library Five-Buck-Bag BOOK SALE  \n36 Mill Village Rd\, Goshen\, NH \n~Rain or Shine \nThe adventure is all in the find! (we supply the bags) \n 
URL:https://lake-sunapee-living.com/event/olive-pettis-memorial-library-five-buck-bag-book-sale/
LOCATION:Olive Pettis Memorial Library\, 36 Mill Village Rd\, Goshen\, NH\, 03752\, United States
CATEGORIES:Book Sale
GEO:43.3020714;-72.1491336
X-APPLE-STRUCTURED-LOCATION;VALUE=URI;X-ADDRESS=Olive Pettis Memorial Library 36 Mill Village Rd Goshen NH 03752 United States;X-APPLE-RADIUS=500;X-TITLE=36 Mill Village Rd:geo:-72.1491336,43.3020714
END:VEVENT
END:VCALENDAR