BEGIN:VCALENDAR
VERSION:2.0
PRODID:-//Lake Sunapee Living - ECPv6.15.13//NONSGML v1.0//EN
CALSCALE:GREGORIAN
METHOD:PUBLISH
X-WR-CALNAME:Lake Sunapee Living
X-ORIGINAL-URL:https://lake-sunapee-living.com
X-WR-CALDESC:Events for Lake Sunapee Living
REFRESH-INTERVAL;VALUE=DURATION:PT1H
X-Robots-Tag:noindex
X-PUBLISHED-TTL:PT1H
BEGIN:VTIMEZONE
TZID:America/New_York
BEGIN:DAYLIGHT
TZOFFSETFROM:-0500
TZOFFSETTO:-0400
TZNAME:EDT
DTSTART:20170312T070000
END:DAYLIGHT
BEGIN:STANDARD
TZOFFSETFROM:-0400
TZOFFSETTO:-0500
TZNAME:EST
DTSTART:20171105T060000
END:STANDARD
BEGIN:DAYLIGHT
TZOFFSETFROM:-0500
TZOFFSETTO:-0400
TZNAME:EDT
DTSTART:20180311T070000
END:DAYLIGHT
BEGIN:STANDARD
TZOFFSETFROM:-0400
TZOFFSETTO:-0500
TZNAME:EST
DTSTART:20181104T060000
END:STANDARD
BEGIN:DAYLIGHT
TZOFFSETFROM:-0500
TZOFFSETTO:-0400
TZNAME:EDT
DTSTART:20190310T070000
END:DAYLIGHT
BEGIN:STANDARD
TZOFFSETFROM:-0400
TZOFFSETTO:-0500
TZNAME:EST
DTSTART:20191103T060000
END:STANDARD
BEGIN:DAYLIGHT
TZOFFSETFROM:-0500
TZOFFSETTO:-0400
TZNAME:EDT
DTSTART:20200308T070000
END:DAYLIGHT
BEGIN:STANDARD
TZOFFSETFROM:-0400
TZOFFSETTO:-0500
TZNAME:EST
DTSTART:20201101T060000
END:STANDARD
BEGIN:DAYLIGHT
TZOFFSETFROM:-0500
TZOFFSETTO:-0400
TZNAME:EDT
DTSTART:20210314T070000
END:DAYLIGHT
BEGIN:STANDARD
TZOFFSETFROM:-0400
TZOFFSETTO:-0500
TZNAME:EST
DTSTART:20211107T060000
END:STANDARD
BEGIN:DAYLIGHT
TZOFFSETFROM:-0500
TZOFFSETTO:-0400
TZNAME:EDT
DTSTART:20220313T070000
END:DAYLIGHT
BEGIN:STANDARD
TZOFFSETFROM:-0400
TZOFFSETTO:-0500
TZNAME:EST
DTSTART:20221106T060000
END:STANDARD
BEGIN:DAYLIGHT
TZOFFSETFROM:-0500
TZOFFSETTO:-0400
TZNAME:EDT
DTSTART:20230312T070000
END:DAYLIGHT
BEGIN:STANDARD
TZOFFSETFROM:-0400
TZOFFSETTO:-0500
TZNAME:EST
DTSTART:20231105T060000
END:STANDARD
BEGIN:DAYLIGHT
TZOFFSETFROM:-0500
TZOFFSETTO:-0400
TZNAME:EDT
DTSTART:20240310T070000
END:DAYLIGHT
BEGIN:STANDARD
TZOFFSETFROM:-0400
TZOFFSETTO:-0500
TZNAME:EST
DTSTART:20241103T060000
END:STANDARD
END:VTIMEZONE
BEGIN:VEVENT
DTSTART;TZID=America/New_York:20180721T110000
DTEND;TZID=America/New_York:20180721T140000
DTSTAMP:20260424T164212
CREATED:20180713T142938Z
LAST-MODIFIED:20180713T143111Z
UID:10000610-1532170800-1532181600@lake-sunapee-living.com
SUMMARY:Block Party: MJ Harrington & Co. 70th birthday
DESCRIPTION:MJ Harrington & Co. is partying and YOU’RE INVITED!! \n It’s our 70th birthday! 1948 – 2018  \nWhere: In the pocket park next to our building \nWhen: Saturday\, July 21 11:00am-2:00pm \nFREE hot dogs\, chips\, soda & ice cream \nWhat Else? Drawings for nifty stuff\, live music & the kick-off of our ANNUAL ESTATE SALE
URL:https://lake-sunapee-living.com/event/block-party-mj-harrington-co-70th-birthday/
LOCATION:MJ Harrington & Co.\, 35 Main Street\, Newport\, NH\, 03773\, United States
CATEGORIES:Block Party
ATTACH;FMTTYPE=image/jpeg:https://lake-sunapee-living.com/wp-content/uploads/2018/07/harringtons-70th-birthday-balloons.jpg
GEO:43.3639443;-72.1731282
X-APPLE-STRUCTURED-LOCATION;VALUE=URI;X-ADDRESS=MJ Harrington & Co. 35 Main Street Newport NH 03773 United States;X-APPLE-RADIUS=500;X-TITLE=35 Main Street:geo:-72.1731282,43.3639443
END:VEVENT
BEGIN:VEVENT
DTSTART;TZID=America/New_York:20200207T173000
DTEND;TZID=America/New_York:20200207T193000
DTSTAMP:20260424T164212
CREATED:20200201T174935Z
LAST-MODIFIED:20200201T174935Z
UID:10000381-1581096600-1581103800@lake-sunapee-living.com
SUMMARY:Dinner w/ Jack Frost - New London Recreation
DESCRIPTION:Come join this progressive dinner featuring many local restaurants all in one place! This event will take place at Colby-Sawyer College inside & outside of Wheeler Hall. Tickets will sell out in advance!\ntickets on sale at www.nlrec.com or call 526-6401
URL:https://lake-sunapee-living.com/event/dinner-w-jack-frost-new-london-recreation/
LOCATION:New London Recreation Dept\, 375 Main St\, New London\, NH\, 03257\, United States
CATEGORIES:Block Party
GEO:43.4400907;-72.024331
X-APPLE-STRUCTURED-LOCATION;VALUE=URI;X-ADDRESS=New London Recreation Dept 375 Main St New London NH 03257 United States;X-APPLE-RADIUS=500;X-TITLE=375 Main St:geo:-72.024331,43.4400907
END:VEVENT
BEGIN:VEVENT
DTSTART;TZID=America/New_York:20230721T170000
DTEND;TZID=America/New_York:20230721T200000
DTSTAMP:20260424T164212
CREATED:20230719T000637Z
LAST-MODIFIED:20230719T000637Z
UID:10004177-1689958800-1689969600@lake-sunapee-living.com
SUMMARY:See the new "Postcard Mural" at the Newport Community Block Party
DESCRIPTION:The Library Arts Center and the Newport Public Art Collaborative-a newly-formed partnership with the Newport Area Chamber of Commerce-has worked to create a new vintage postcard-style mural that was installed in downtown Newport this week. This large-scale public art piece\, created in the same style as the popular “Greetings from” postcards\, depicts the Corbin Covered Bridge in the fall\, as well as popular scenes from around town (skating on the Common\, the Opera House\, the Library and more). The mural was painted by artist Heidi Lorenz-the lead artist of the Newport Community Heritage Mural Reproduction in 2022. \nThe mural was installed just in time for the Newport Community Block Party this Friday\, July 21st! We look forward to this vibrant art piece welcoming residents and visitors to the Newport Downtown Historic District when entering downtown from Sunapee Street\, in the heart of the Sugar River Region.⁠
URL:https://lake-sunapee-living.com/event/see-the-new-postcard-mural-at-the-newport-community-block-party/
LOCATION:Newport Town Common\, 15 Park St\, Newport\, NH\, 03773\, United States
CATEGORIES:Block Party
GEO:43.3659042;-72.1734984
X-APPLE-STRUCTURED-LOCATION;VALUE=URI;X-ADDRESS=Newport Town Common 15 Park St Newport NH 03773 United States;X-APPLE-RADIUS=500;X-TITLE=15 Park St:geo:-72.1734984,43.3659042
END:VEVENT
END:VCALENDAR