BEGIN:VCALENDAR
VERSION:2.0
PRODID:-//Lake Sunapee Living - ECPv6.15.13//NONSGML v1.0//EN
CALSCALE:GREGORIAN
METHOD:PUBLISH
X-ORIGINAL-URL:https://lake-sunapee-living.com
X-WR-CALDESC:Events for Lake Sunapee Living
REFRESH-INTERVAL;VALUE=DURATION:PT1H
X-Robots-Tag:noindex
X-PUBLISHED-TTL:PT1H
BEGIN:VTIMEZONE
TZID:America/New_York
BEGIN:DAYLIGHT
TZOFFSETFROM:-0500
TZOFFSETTO:-0400
TZNAME:EDT
DTSTART:20240310T070000
END:DAYLIGHT
BEGIN:STANDARD
TZOFFSETFROM:-0400
TZOFFSETTO:-0500
TZNAME:EST
DTSTART:20241103T060000
END:STANDARD
BEGIN:DAYLIGHT
TZOFFSETFROM:-0500
TZOFFSETTO:-0400
TZNAME:EDT
DTSTART:20250309T070000
END:DAYLIGHT
BEGIN:STANDARD
TZOFFSETFROM:-0400
TZOFFSETTO:-0500
TZNAME:EST
DTSTART:20251102T060000
END:STANDARD
BEGIN:DAYLIGHT
TZOFFSETFROM:-0500
TZOFFSETTO:-0400
TZNAME:EDT
DTSTART:20260308T070000
END:DAYLIGHT
BEGIN:STANDARD
TZOFFSETFROM:-0400
TZOFFSETTO:-0500
TZNAME:EST
DTSTART:20261101T060000
END:STANDARD
END:VTIMEZONE
BEGIN:VEVENT
DTSTART;TZID=America/New_York:20250711T130000
DTEND;TZID=America/New_York:20250711T170000
DTSTAMP:20260425T133437
CREATED:20250704T114257Z
LAST-MODIFIED:20250704T114430Z
UID:10004608-1752238800-1752253200@lake-sunapee-living.com
SUMMARY:Naturally New England Artist Show and Sale Opening
DESCRIPTION:The show runs from July 12 – July 20\, 2025 \nSneak Peek July 11\, 1-5pm \nExperience the finest artistry from across the region at this juried exhibit\, featuring landscapes\, wildlife\, and historic architecture from Vermont\, New Hampshire\, and beyond. \nEnjoy both in-person and virtual galleries showcasing original work in painting\, photography\, mixed media\, and more—with lite refreshments served during the in-person exhibit \nlearn more
URL:https://lake-sunapee-living.com/event/naturally-new-england-artist-show-and-sale-opening/
LOCATION:The Livery\, 58 Main St.\, Sunapee\, NH\, 03782\, United States
CATEGORIES:Art Exhibition
GEO:43.3860983;-72.0826955
X-APPLE-STRUCTURED-LOCATION;VALUE=URI;X-ADDRESS=The Livery 58 Main St. Sunapee NH 03782 United States;X-APPLE-RADIUS=500;X-TITLE=58 Main St.:geo:-72.0826955,43.3860983
END:VEVENT
BEGIN:VEVENT
DTSTART;TZID=America/New_York:20250712T100000
DTEND;TZID=America/New_York:20250712T160000
DTSTAMP:20260425T133437
CREATED:20250704T114637Z
LAST-MODIFIED:20250704T114637Z
UID:10004609-1752314400-1752336000@lake-sunapee-living.com
SUMMARY:Arts in the Harbor
DESCRIPTION:Join us for Arts in the Harbor\, a one-day outdoor juried show celebrating the vibrant talent of artists across the region. Explore oil\, acrylic\, and watercolor paintings\, photography\, pottery\, handcrafted jewelry\, and more—all in the charming setting of Sunapee Harbor. \nLearn More
URL:https://lake-sunapee-living.com/event/arts-in-the-harbor/
LOCATION:Sunapee Harbor\, 67 Main Street\, Sunapee\, NH\, 03782\, United States
CATEGORIES:Art Exhibition
GEO:43.3856379;-72.0816099
X-APPLE-STRUCTURED-LOCATION;VALUE=URI;X-ADDRESS=Sunapee Harbor 67 Main Street Sunapee NH 03782 United States;X-APPLE-RADIUS=500;X-TITLE=67 Main Street:geo:-72.0816099,43.3856379
END:VEVENT
BEGIN:VEVENT
DTSTART;TZID=America/New_York:20250712T170000
DTEND;TZID=America/New_York:20250712T190000
DTSTAMP:20260425T133437
CREATED:20250704T115000Z
LAST-MODIFIED:20250704T115000Z
UID:10004610-1752339600-1752346800@lake-sunapee-living.com
SUMMARY:CFA Naturally New England Opening Reception
DESCRIPTION:Kick off the 8th annual Naturally New England Art Show & Sale with an inspiring evening celebrating art\, community\, and creativity! Enjoy mingling with the artists whose work captures the beauty of New England. \nThis event also marks the 15th anniversary of the Center for the Arts—join us in raising a toast to local talent and artistic vision in the heart of Sunapee Harbor. \nLearn more
URL:https://lake-sunapee-living.com/event/cfa-naturally-new-england-opening-reception/
LOCATION:The Livery\, 58 Main St.\, Sunapee\, NH\, 03782\, United States
CATEGORIES:Art Exhibition
GEO:43.3860983;-72.0826955
X-APPLE-STRUCTURED-LOCATION;VALUE=URI;X-ADDRESS=The Livery 58 Main St. Sunapee NH 03782 United States;X-APPLE-RADIUS=500;X-TITLE=58 Main St.:geo:-72.0826955,43.3860983
END:VEVENT
BEGIN:VEVENT
DTSTART;TZID=America/New_York:20250801T170000
DTEND;TZID=America/New_York:20250801T190000
DTSTAMP:20260425T133437
CREATED:20250728T130504Z
LAST-MODIFIED:20250728T130558Z
UID:10004618-1754067600-1754074800@lake-sunapee-living.com
SUMMARY:Opening Night of Summer Art Show Exhibition by Gary Milek
DESCRIPTION:Celebrate the beauty of the season through an inspiring collection of floral and landscape paintings by acclaimed Vermont artist Gary Milek. \nEach piece captures the vibrant colors\, gentle light\, and natural serenity of summer. \nThe event is at Cicely Beston Interior Designs\, LLC showroom. \nThe opening night is Friday\, August 1st from 5:00 – 7:00 PM and the show is open Saturday August 2nd through Saturday August 9th daily from 10:00 – 4:00 PM. \nCicely Beston Interior Designs\, LLC\n468 Main Street\, New London\, NH 03257\nOffice: 603-526-2657Gary Milek\nwww.cbestoninteriordesigns.com
URL:https://lake-sunapee-living.com/event/opening-night-of-summer-art-show-exhibition-by-gary-milek/
LOCATION:Cicely Beston Interior Designs\, 468 Main Street\, New London\, 03257\, United States
CATEGORIES:Art Exhibition
GEO:43.4120228;-71.9800303
X-APPLE-STRUCTURED-LOCATION;VALUE=URI;X-ADDRESS=Cicely Beston Interior Designs 468 Main Street New London 03257 United States;X-APPLE-RADIUS=500;X-TITLE=468 Main Street:geo:-71.9800303,43.4120228
END:VEVENT
BEGIN:VEVENT
DTSTART;TZID=America/New_York:20251212T170000
DTEND;TZID=America/New_York:20251212T190000
DTSTAMP:20260425T133437
CREATED:20251201T174141Z
LAST-MODIFIED:20251201T174141Z
UID:10004634-1765558800-1765566000@lake-sunapee-living.com
SUMMARY:CFA Illuminations Holiday Party & Members Social
DESCRIPTION:Join us for a festive evening at the CFA Gallery & Studio as we gather for our annual holiday social. Enjoy light refreshments\, connect with fellow members and friends\, and see the vibrant works featured in the Illuminations Holiday Members Showcase. Whether you’re already part of our community or just curious about joining\, all are welcome to celebrate with us.
URL:https://lake-sunapee-living.com/event/cfa-illuminations-holiday-party-members-social/
LOCATION:The Center for the Arts\, 428 Main St.\, New London\, NH\, 03257\, United States
CATEGORIES:Art Exhibition
END:VEVENT
END:VCALENDAR