BEGIN:VCALENDAR
VERSION:2.0
PRODID:-//Lake Sunapee Living - ECPv6.15.13//NONSGML v1.0//EN
CALSCALE:GREGORIAN
METHOD:PUBLISH
X-ORIGINAL-URL:https://lake-sunapee-living.com
X-WR-CALDESC:Events for Lake Sunapee Living
REFRESH-INTERVAL;VALUE=DURATION:PT1H
X-Robots-Tag:noindex
X-PUBLISHED-TTL:PT1H
BEGIN:VTIMEZONE
TZID:America/New_York
BEGIN:DAYLIGHT
TZOFFSETFROM:-0500
TZOFFSETTO:-0400
TZNAME:EDT
DTSTART:20210314T070000
END:DAYLIGHT
BEGIN:STANDARD
TZOFFSETFROM:-0400
TZOFFSETTO:-0500
TZNAME:EST
DTSTART:20211107T060000
END:STANDARD
BEGIN:DAYLIGHT
TZOFFSETFROM:-0500
TZOFFSETTO:-0400
TZNAME:EDT
DTSTART:20220313T070000
END:DAYLIGHT
BEGIN:STANDARD
TZOFFSETFROM:-0400
TZOFFSETTO:-0500
TZNAME:EST
DTSTART:20221106T060000
END:STANDARD
BEGIN:DAYLIGHT
TZOFFSETFROM:-0500
TZOFFSETTO:-0400
TZNAME:EDT
DTSTART:20230312T070000
END:DAYLIGHT
BEGIN:STANDARD
TZOFFSETFROM:-0400
TZOFFSETTO:-0500
TZNAME:EST
DTSTART:20231105T060000
END:STANDARD
END:VTIMEZONE
BEGIN:VEVENT
DTSTART;TZID=America/New_York:20220819T170000
DTEND;TZID=America/New_York:20220819T213000
DTSTAMP:20260424T230711
CREATED:20220716T165532Z
LAST-MODIFIED:20220716T165532Z
UID:10004149-1660928400-1660944600@lake-sunapee-living.com
SUMMARY:Steak\, Cigar\, and Scotch Dinner at Mount Sunapee
DESCRIPTION:Enjoy an evening at Mount Sunapee with cigars and a sampling of scotch and bourbon plus a hearty steak dinner. Cocktail hour will be held at the Summit Lodge followed by a dinner service at the tent at Sunapee Lodge. After dinner\, savor fine cigars and relax on the patio. Featuring live entertainment throughout the entire event. Includes a round-trip to the summit on the Sunapee Express Quad chairlift during cocktail hour. \n\n\n\nTickets are $98\, including tax and gratuity. \nTickets available on our website (mountsunapee.com) or call the Adventure Center at (603) 763 – 3564
URL:https://lake-sunapee-living.com/event/steak-cigar-and-scotch-dinner-at-mount-sunapee/
LOCATION:Mount Sunapee\, 1398 ROUTE 103\, Newbury\, NH\, 03255\, United States
CATEGORIES:and Scotch Dinner
GEO:43.3260437;-72.0644669
X-APPLE-STRUCTURED-LOCATION;VALUE=URI;X-ADDRESS=Mount Sunapee 1398 ROUTE 103 Newbury NH 03255 United States;X-APPLE-RADIUS=500;X-TITLE=1398 ROUTE 103:geo:-72.0644669,43.3260437
END:VEVENT
END:VCALENDAR