BEGIN:VCALENDAR
VERSION:2.0
PRODID:-//Lake Sunapee Living - ECPv6.15.13//NONSGML v1.0//EN
CALSCALE:GREGORIAN
METHOD:PUBLISH
X-WR-CALNAME:Lake Sunapee Living
X-ORIGINAL-URL:https://lake-sunapee-living.com
X-WR-CALDESC:Events for Lake Sunapee Living
REFRESH-INTERVAL;VALUE=DURATION:PT1H
X-Robots-Tag:noindex
X-PUBLISHED-TTL:PT1H
BEGIN:VTIMEZONE
TZID:America/New_York
BEGIN:DAYLIGHT
TZOFFSETFROM:-0500
TZOFFSETTO:-0400
TZNAME:EDT
DTSTART:20180311T070000
END:DAYLIGHT
BEGIN:STANDARD
TZOFFSETFROM:-0400
TZOFFSETTO:-0500
TZNAME:EST
DTSTART:20181104T060000
END:STANDARD
BEGIN:DAYLIGHT
TZOFFSETFROM:-0500
TZOFFSETTO:-0400
TZNAME:EDT
DTSTART:20190310T070000
END:DAYLIGHT
BEGIN:STANDARD
TZOFFSETFROM:-0400
TZOFFSETTO:-0500
TZNAME:EST
DTSTART:20191103T060000
END:STANDARD
BEGIN:DAYLIGHT
TZOFFSETFROM:-0500
TZOFFSETTO:-0400
TZNAME:EDT
DTSTART:20200308T070000
END:DAYLIGHT
BEGIN:STANDARD
TZOFFSETFROM:-0400
TZOFFSETTO:-0500
TZNAME:EST
DTSTART:20201101T060000
END:STANDARD
BEGIN:DAYLIGHT
TZOFFSETFROM:-0500
TZOFFSETTO:-0400
TZNAME:EDT
DTSTART:20210314T070000
END:DAYLIGHT
BEGIN:STANDARD
TZOFFSETFROM:-0400
TZOFFSETTO:-0500
TZNAME:EST
DTSTART:20211107T060000
END:STANDARD
BEGIN:DAYLIGHT
TZOFFSETFROM:-0500
TZOFFSETTO:-0400
TZNAME:EDT
DTSTART:20220313T070000
END:DAYLIGHT
BEGIN:STANDARD
TZOFFSETFROM:-0400
TZOFFSETTO:-0500
TZNAME:EST
DTSTART:20221106T060000
END:STANDARD
BEGIN:DAYLIGHT
TZOFFSETFROM:-0500
TZOFFSETTO:-0400
TZNAME:EDT
DTSTART:20230312T070000
END:DAYLIGHT
BEGIN:STANDARD
TZOFFSETFROM:-0400
TZOFFSETTO:-0500
TZNAME:EST
DTSTART:20231105T060000
END:STANDARD
END:VTIMEZONE
BEGIN:VEVENT
DTSTART;TZID=America/New_York:20190618T183000
DTEND;TZID=America/New_York:20190618T203000
DTSTAMP:20260425T165354
CREATED:20190417T004516Z
LAST-MODIFIED:20190417T124435Z
UID:10003694-1560882600-1560889800@lake-sunapee-living.com
SUMMARY:Steak\, Scotch\, & Cigar Dinner at Mount Sunapee Summit
DESCRIPTION:Steak\, Scotch\, & Cigar Dinner\nJoin us on Thursday\, July 18th for an evening of steaks\, cigars\, and choice of whiskey\, scotch\, or bourbon. Bring your friends or your date for a special evening at Mount Sunapee with an included chairlift ride to the summit. Limited tickets available\, purchase yours now!
URL:https://lake-sunapee-living.com/event/steak-scotch-cigar-dinner-at-mount-sunapee-summit/
LOCATION:Mount Sunapee\, 1398 ROUTE 103\, Newbury\, NH\, 03255\, United States
CATEGORIES:aerial sky ride,Outdoor Dinner
GEO:43.3260437;-72.0644669
X-APPLE-STRUCTURED-LOCATION;VALUE=URI;X-ADDRESS=Mount Sunapee 1398 ROUTE 103 Newbury NH 03255 United States;X-APPLE-RADIUS=500;X-TITLE=1398 ROUTE 103:geo:-72.0644669,43.3260437
END:VEVENT
BEGIN:VEVENT
DTSTART;TZID=America/New_York:20220722T170000
DTEND;TZID=America/New_York:20220722T200000
DTSTAMP:20260425T165354
CREATED:20220714T033645Z
LAST-MODIFIED:20220714T033645Z
UID:10004127-1658509200-1658520000@lake-sunapee-living.com
SUMMARY:Mount Sunapee Farm-to-Table Dinner
DESCRIPTION:Mount Sunapee will be hosting a special Farm-to-Table Dinner from 5 to 8 p.m. on Friday\, July 22. This unique culinary experience starts with a chairlift ride to a cocktail hour with live music at the Summit Lodge. Back in the base area\, dinner service will showcase the bounty of local farms and more live music. $85 per person includes a round-trip aerial skyride on the Sunapee Express four-passenger chairlift. Reserve your place at https://bit.ly/3nJcgpS
URL:https://lake-sunapee-living.com/event/mount-sunapee-farm-to-table-dinner/
LOCATION:Mount Sunapee\, 1398 ROUTE 103\, Newbury\, NH\, 03255\, United States
CATEGORIES:aerial sky ride
GEO:43.3260437;-72.0644669
X-APPLE-STRUCTURED-LOCATION;VALUE=URI;X-ADDRESS=Mount Sunapee 1398 ROUTE 103 Newbury NH 03255 United States;X-APPLE-RADIUS=500;X-TITLE=1398 ROUTE 103:geo:-72.0644669,43.3260437
END:VEVENT
END:VCALENDAR